BEGIN:VCALENDAR
VERSION:2.0
PRODID:-//Obstetrics &amp; Gynecology//NONSGML Events//EN
CALSCALE:GREGORIAN
X-ORIGINAL-URL:https://obgyn.wustl.edu/events/
X-WR-CALDESC:Obstetrics &amp; Gynecology - Events
BEGIN:VEVENT
UID:20190315T1648Z-1552668481.9903-EO-8383-1@172.23.128.19
STATUS:CONFIRMED
DTSTAMP:20260417T233230Z
CREATED:20190315T164715Z
LAST-MODIFIED:20190315T164715Z
DTSTART;TZID=America/Chicago:20190320T070000
DTEND;TZID=America/Chicago:20190320T080000
SUMMARY: Grand Rounds
DESCRIPTION:  “An Introduction to the Reproductive Justice Movement”  Carle
 y J. Zeal\, M.D. Fellow\, Division of Family Planning Department of Obstetr
 ics and Gynecology Washington University School of Medicine  Educational Ob
 jectives: Develop and understanding of the history of the RJ Movement\; Lea
 rn how the RJ framework applies to current issues and research in OB/GYN\; 
 Apply the RJ framework […]
X-ALT-DESC;FMTTYPE=text/html: <table cellspacing="0" cellpadding="0"><tbody
 ><tr><td valign="top"><p><span class="Apple-converted-space"> </span><b>“An
  Introduction to the Reproductive Justice Movement”<span class="Apple-conve
 rted-space"> </span></b></p><p><strong>Carley J. Zeal\, M.D.<span class="Ap
 ple-converted-space"><br /></span></strong>Fellow\, Division of Family Plan
 ning<span class="Apple-converted-space"><br /></span>Department of Obstetri
 cs and Gynecology<span class="Apple-converted-space"><br /></span>Washingto
 n University School of Medicine<span class="Apple-converted-space"> </span>
 </p><p><b>Educational Objectives: </b>Develop and understanding of the hist
 ory of the RJ Movement\; Learn how the RJ framework applies to current issu
 es and research in OB/GYN\; Apply the RJ framework to patient cases in our 
 own practice.</td></tr></tbody></table><hr /><p>MUST SIGN IN BY 7:15 AM TO 
 RECEIVE CONTINUING MEDICAL EDUCATION CREDIT</p><p><a class="wusm-button" hr
 ef="http://wustl.adobeconnect.com/obgyn2017">SIMULTANEOUS TELECAST (no CMEs
 )</a></p><p><em>Additional information: contact Patti Sasse in the Departme
 nt of OB/GYN at (314) 362-1016</em></p>
CATEGORIES:Grand Rounds
LOCATION:Wohl Clinic - Clopton Auditorium (ground floor)
GEO:38.636995;-90.264349
ORGANIZER;CN="Marcy":MAILTO:marcylivingston@wustl.edu
URL;VALUE=URI:https://obgyn.wustl.edu/events/event/grand-rounds-12/
END:VEVENT
BEGIN:VTIMEZONE
TZID:America/Chicago
BEGIN:DAYLIGHT
TZOFFSETFROM:-0600
TZOFFSETTO:-0500
DTSTART:20190310T080000
TZNAME:CDT
END:DAYLIGHT
END:VTIMEZONE
END:VCALENDAR
