BEGIN:VCALENDAR
VERSION:2.0
PRODID:-//Obstetrics &amp; Gynecology//NONSGML Events//EN
CALSCALE:GREGORIAN
X-ORIGINAL-URL:https://obgyn.wustl.edu/events/
X-WR-CALDESC:Obstetrics &amp; Gynecology - Events
BEGIN:VEVENT
UID:20190315T1706Z-1552669581.9275-EO-8392-1@172.23.128.19
STATUS:CONFIRMED
DTSTAMP:20260417T233231Z
CREATED:20190315T165030Z
LAST-MODIFIED:20190315T165030Z
DTSTART;TZID=America/Chicago:20190116T070000
DTEND;TZID=America/Chicago:20190116T080000
SUMMARY: Grand Rounds
DESCRIPTION: “A Comprehensive Approach to the Diagnosis and Treatment of PC
 OS”  Ashley M. Eskew\, M.D. Fellow\, 3rd Year Division\, Reproductive Endoc
 rinology and Infertility Department of Obstetrics and Gynecology Washington
  University School of Medicine  Educational Objectives: Summarize diagnosti
 c criteria for PCOS\; Describe co-morbidities and long term health risks as
 sociated with PCOS\; Describe the importance of lifestyle modifications […]
X-ALT-DESC;FMTTYPE=text/html: <table cellspacing="0" cellpadding="0"><tbody
 ><tr><td valign="top"><p><b>“A Comprehensive Approach to the Diagnosis and 
 Treatment of PCOS”<span class="Apple-converted-space"> </span></b></p><p>As
 hley M. Eskew\, M.D.<span class="Apple-converted-space"><br /></span>Fellow
 \, 3rd Year<span class="Apple-converted-space"><br /></span>Division\, Repr
 oductive Endocrinology and Infertility<span class="Apple-converted-space"><
 br /></span>Department of Obstetrics and Gynecology<span class="Apple-conve
 rted-space"><br /></span>Washington University School of Medicine<span clas
 s="Apple-converted-space"> </span></p><p><b>Educational Objectives: </b>Sum
 marize diagnostic criteria for PCOS\; Describe co-morbidities and long term
  health risks associated with PCOS\; Describe the importance of lifestyle m
 odifications as first line treatment in patients with PCOS.</p><hr /><p>MUS
 T SIGN IN BY 7:15 AM TO RECEIVE CONTINUING MEDICAL EDUCATION CREDIT</p><p><
 a class="wusm-button" href="http://wustl.adobeconnect.com/obgyn2017">SIMULT
 ANEOUS TELECAST (no CMEs)</a></p><p><em>Additional information: contact Pat
 ti Sasse in the Department of OB/GYN at (314) 362-1016</em></td></tr></tbod
 y></table><p></p>
CATEGORIES:Grand Rounds
LOCATION:Wohl Clinic - Clopton Auditorium (ground floor)
GEO:38.636995;-90.264349
ORGANIZER;CN="Marcy":MAILTO:marcylivingston@wustl.edu
URL;VALUE=URI:https://obgyn.wustl.edu/events/event/grand-rounds-15/
END:VEVENT
BEGIN:VTIMEZONE
TZID:America/Chicago
BEGIN:STANDARD
TZOFFSETFROM:-0500
TZOFFSETTO:-0600
DTSTART:20181104T070000
TZNAME:CST
END:STANDARD
END:VTIMEZONE
END:VCALENDAR
