BEGIN:VCALENDAR
VERSION:2.0
PRODID:-//Obstetrics &amp; Gynecology//NONSGML Events//EN
CALSCALE:GREGORIAN
X-ORIGINAL-URL:https://obgyn.wustl.edu/events/
X-WR-CALDESC:Obstetrics &amp; Gynecology - Events
BEGIN:VEVENT
UID:20190408T1349Z-1554731371.367-EO-8532-1@172.23.128.19
STATUS:CONFIRMED
DTSTAMP:20260417T233234Z
CREATED:20190408T134832Z
LAST-MODIFIED:20190408T134832Z
DTSTART;TZID=America/Chicago:20190410T070000
DTEND;TZID=America/Chicago:20190410T080000
SUMMARY: Grand Rounds
DESCRIPTION:  “The Da Vinci Surgical System in Gynecologic Surgery: A Robot
  Story”  James Cripe\, MD Fellow\, Division of Gynecologic Oncology Departm
 ent of Obstetrics and Gynecology Washington University School of Medicine  
 Educational Objectives: Provide an overview of the origins of robotic surge
 ry\; review the current data of robotics in gynecologic surgery: discuss th
 e contemporary trends and controversies […]
X-ALT-DESC;FMTTYPE=text/html: <table cellspacing="0" cellpadding="0"><tbody
 ><tr><td valign="top"><p><span class="Apple-converted-space"> </span><b>“Th
 e Da Vinci Surgical System in Gynecologic Surgery: A Robot Story”<span clas
 s="Apple-converted-space"> </span></b></p><p><strong>James Cripe\, MD<span 
 class="Apple-converted-space"><br /></span></strong>Fellow\, Division of Gy
 necologic Oncology<span class="Apple-converted-space"><br /></span><span st
 yle="font-family: inherit\; font-size: inherit\;">Department of Obstetrics 
 and Gynecology</span><br />Washington University School of Medicine<span cl
 ass="Apple-converted-space"> </span></p><p><b>Educational Objectives: Provi
 de an overview of the origins of robotic surgery\; review the current data 
 of robotics in gynecologic surgery: discuss the contemporary trends and con
 troversies with robotic surgery<span class="Apple-converted-space"> </span>
 </b></td></tr></tbody></table><hr /><p>MUST SIGN IN BY 7:15 AM TO RECEIVE C
 ONTINUING MEDICAL EDUCATION CREDIT</p><p><a class="wusm-button" href="http:
 //wustl.adobeconnect.com/obgyn2017">SIMULTANEOUS TELECAST (no CMEs)</a></p>
 <p><em>Additional information: contact Patti Sasse in the Department of OB/
 GYN at (314) 362-1016</em></p>
CATEGORIES:Grand Rounds
LOCATION:Wohl Clinic - Clopton Auditorium (ground floor)
GEO:38.636995;-90.264349
ORGANIZER;CN="Marcy":MAILTO:marcylivingston@wustl.edu
URL;VALUE=URI:https://obgyn.wustl.edu/events/event/grand-rounds-19/
END:VEVENT
BEGIN:VTIMEZONE
TZID:America/Chicago
BEGIN:DAYLIGHT
TZOFFSETFROM:-0600
TZOFFSETTO:-0500
DTSTART:20190310T080000
TZNAME:CDT
END:DAYLIGHT
END:VTIMEZONE
END:VCALENDAR
