BEGIN:VCALENDAR
VERSION:2.0
PRODID:-//Obstetrics &amp; Gynecology//NONSGML Events//EN
CALSCALE:GREGORIAN
X-ORIGINAL-URL:https://obgyn.wustl.edu/events/
X-WR-CALDESC:Obstetrics &amp; Gynecology - Events
BEGIN:VEVENT
UID:20191029T1705Z-1572368704.2995-EO-9886-1@172.23.128.19
STATUS:CONFIRMED
DTSTAMP:20260417T233238Z
CREATED:20191029T170411Z
LAST-MODIFIED:20191029T170419Z
DTSTART;TZID=America/Chicago:20191023T070000
DTEND;TZID=America/Chicago:20191023T200000
SUMMARY: grand rounds
DESCRIPTION: HPV vaccine: Effectiveness\, safety\, impact\, and how it’s ch
 anging cervical cancer prevention  Leslie Stewart Massad\, Jr.\, M.D. Profe
 ssor Division of Gynecologic Oncology Department of Obstetrics & Gynecology
  Washington University School of Medicine\, St. Louis\, Missouri Educationa
 l Objectives: At the conclusion of this talk\, participants should be able 
 to: Describe benefits/risks of HPV vaccine\; Target vaccination […]
X-ALT-DESC;FMTTYPE=text/html: <p><strong>HPV vaccine: Effectiveness\, safet
 y\, impact\, and how it’s changing cervical cancer prevention </strong></p>
 <p><span style="color: #000000\;"><strong>Leslie Stewart Massad\, Jr.\, M.D
 .<span class="Apple-converted-space"><br /></span></strong></span>Professor
 <span class="Apple-converted-space"><br /></span>Division of Gynecologic On
 cology<span class="Apple-converted-space"><br /></span>Department of Obstet
 rics & Gynecology<span class="Apple-converted-space"><br /></span>Washingto
 n University School of Medicine\, St. Louis\, Missouri</p><p><b>Educational
  Objectives: At the conclusion of this talk\, participants should be able t
 o: Describe benefits/risks of HPV vaccine\; Target vaccination to susceptib
 le women\; Describe changes in HPV epidemiology\; Anticipate changes in can
 cer prevention strategies arising from vaccination </b></p><hr /><p>MUST SI
 GN IN BY 7:15 AM TO RECEIVE CONTINUING MEDICAL EDUCATION CREDIT</p><p><a cl
 ass="wusm-button" href="http://wustl.adobeconnect.com/obgyn2017">SIMULTANEO
 US TELECAST (no CMEs)</a></p><p><em>Additional information: contact Patti S
 asse in the Department of OB/GYN at (314) 362-1016</em></p>
CATEGORIES:Grand Rounds
ORGANIZER;CN="Marcy":MAILTO:marcylivingston@wustl.edu
URL;VALUE=URI:https://obgyn.wustl.edu/events/event/grand-rounds-26/
END:VEVENT
BEGIN:VTIMEZONE
TZID:America/Chicago
BEGIN:DAYLIGHT
TZOFFSETFROM:-0600
TZOFFSETTO:-0500
DTSTART:20190310T080000
TZNAME:CDT
END:DAYLIGHT
END:VTIMEZONE
END:VCALENDAR
