BEGIN:VCALENDAR
VERSION:2.0
PRODID:-//Obstetrics &amp; Gynecology//NONSGML Events//EN
CALSCALE:GREGORIAN
X-ORIGINAL-URL:https://obgyn.wustl.edu/events/
X-WR-CALDESC:Obstetrics &amp; Gynecology - Events
BEGIN:VEVENT
UID:20191029T1727Z-1572370036.3951-EO-9889-1@172.23.128.18
STATUS:CONFIRMED
DTSTAMP:20260417T233239Z
CREATED:20191029T170744Z
LAST-MODIFIED:20191029T170744Z
DTSTART;TZID=America/Chicago:20191030T070000
DTEND;TZID=America/Chicago:20191030T080000
SUMMARY: Grand Rounds
DESCRIPTION: Endometriosis: New Pathophysiology and Therapies Hugh S. Taylo
 r\, M.D. Jacob Probstein Visiting Professor Professor and Chair Obstetrics\
 , Gynecology\, and Reproductive Sciences Yale School of Medicine Education 
 Objectives: A review of the etiological factors in the development of this 
 disease process and its various treatment modalities. MUST SIGN IN BY 7:15 
 AM TO RECEIVE CONTINUING MEDICAL […]
X-ALT-DESC;FMTTYPE=text/html: <p><b>Endometriosis: New Pathophysiology and 
 Therapies</b></p><p><strong>Hugh S. Taylor\, M.D.</strong><br />Jacob Probs
 tein Visiting Professor<br />Professor and Chair<br />Obstetrics\, Gynecolo
 gy\, and Reproductive Sciences<br />Yale School of Medicine</p><p><b>Educat
 ion Objectives: </b><b>A review of the etiological factors in the developme
 nt of this disease process and its various treatment modalities. </b></p><h
 r /><p>MUST SIGN IN BY 7:15 AM TO RECEIVE CONTINUING MEDICAL EDUCATION CRED
 IT</p><p><a class="wusm-button" href="http://wustl.adobeconnect.com/obgyn20
 17">SIMULTANEOUS TELECAST (no CMEs)</a></p><p><em>Additional information: c
 ontact Patti Sasse in the Department of OB/GYN at (314) 362-1016</em></p>
CATEGORIES:Grand Rounds,Visiting Speakers
LOCATION:Wohl Clinic - Clopton Auditorium (ground floor)
GEO:38.636995;-90.264349
ORGANIZER;CN="Marcy":MAILTO:marcylivingston@wustl.edu
URL;VALUE=URI:https://obgyn.wustl.edu/events/event/grand-rounds-27/
END:VEVENT
BEGIN:VTIMEZONE
TZID:America/Chicago
BEGIN:DAYLIGHT
TZOFFSETFROM:-0600
TZOFFSETTO:-0500
DTSTART:20190310T080000
TZNAME:CDT
END:DAYLIGHT
END:VTIMEZONE
END:VCALENDAR
