BEGIN:VCALENDAR
VERSION:2.0
PRODID:-//Obstetrics &amp; Gynecology//NONSGML Events//EN
CALSCALE:GREGORIAN
X-ORIGINAL-URL:https://obgyn.wustl.edu/events/
X-WR-CALDESC:Obstetrics &amp; Gynecology - Events
BEGIN:VEVENT
UID:20200302T1524Z-1583162675.745-EO-10094-1@172.23.128.19
STATUS:CONFIRMED
DTSTAMP:20260422T065348Z
CREATED:20200302T151851Z
LAST-MODIFIED:20200323T140619Z
DTSTART;TZID=America/Chicago:20200325T070000
DTEND;TZID=America/Chicago:20200325T080000
SUMMARY: Grand Rounds – COVID-19 Update
DESCRIPTION: No in-person presence  COVID-19 (Information on Corona Virus P
 andemic) Hilary Babcock\, MD\, MPH Professor\, Division of Infectious Disea
 se Washington University School of Medicine Jeannie Kelly\, MD\, MS Assista
 nt Professor\, Maternal Fetal Medicine Washington University School of Medi
 cine (if a # is requested\, enter above # 298270049 … then to JOIN MEETING)
 .  During Q & A\, […]
X-ALT-DESC;FMTTYPE=text/html: <p class="x_xmsonormal"><span style="text-dec
 oration: underline\;"><strong>No in-person presence </strong></span></p><p 
 class="x_xmsonormal"><span style="color: #800000\;"><b>COVID-19 (Informatio
 n on Corona Virus Pandemic)</b></span></p><p class="x_xmsonormal"><b>Hilary
  Babcock\, MD\, MPH<br /></b>Professor\, Division of Infectious Disease<br 
 />Washington University School of Medicine<b><br /></b><b></b></p><p class=
 "x_xmsonormal"><b>Jeannie Kelly\, MD\, MS<br /></b>Assistant Professor\, Ma
 ternal Fetal Medicine<br />Washington University School of Medicine</p><p c
 lass="x_xmsonormal">(if a # is requested\, enter above # <b>298270049 </b>…
  then to<b> JOIN MEETING).  </b></p><p class="x_xmsonormal">During Q & A\, 
 you may send a question … under <b>CHAT</b>.  If you have a microphone on<b
 > </b>your computer\, we would like to encourage conferencing as well.</p><
 p class="x_xmsonormal"><u><strong>Please note:</strong> Attempts</u> are be
 ing made to credit you w/ <b>CMEs</b>\, so please <u>enter your FIRST NAME 
 or INITIAL </u><u>& LAST NAME</u> when entering the ZOOM system.</p><hr /><
 p>MUST SIGN IN BY 7:15 AM TO RECEIVE CONTINUING MEDICAL EDUCATION CREDIT</p
 ><p><a class="wusm-button" href="http://wustl.zoom.us/j/298270049">SIMULTAN
 EOUS TELECAST (no CMEs)</a></p><p><em>Additional information: contact Patti
  Sasse in the Department of OB/GYN at (314) 362-1016</em></p>
CATEGORIES:Grand Rounds
LOCATION:Wohl Clinic - Clopton Auditorium (ground floor)
GEO:38.636995;-90.264349
ORGANIZER;CN="Marcy":MAILTO:marcylivingston@wustl.edu
URL;VALUE=URI:https://obgyn.wustl.edu/events/event/grand-rounds-35/
END:VEVENT
BEGIN:VTIMEZONE
TZID:America/Chicago
BEGIN:DAYLIGHT
TZOFFSETFROM:-0600
TZOFFSETTO:-0500
DTSTART:20200308T080000
TZNAME:CDT
END:DAYLIGHT
END:VTIMEZONE
END:VCALENDAR
