BEGIN:VCALENDAR
VERSION:2.0
PRODID:-//Obstetrics &amp; Gynecology//NONSGML Events//EN
CALSCALE:GREGORIAN
X-ORIGINAL-URL:https://obgyn.wustl.edu/events/
X-WR-CALDESC:Obstetrics &amp; Gynecology - Events
BEGIN:VEVENT
UID:20210105T2024Z-1609878261.3313-EO-11654-1@172.23.128.18
STATUS:CONFIRMED
DTSTAMP:20260417T233247Z
CREATED:20210105T201618Z
LAST-MODIFIED:20210627T151622Z
DTSTART;TZID=America/Chicago:20210106T080000
DTEND;TZID=America/Chicago:20210106T090000
RRULE:FREQ=WEEKLY;INTERVAL=1;BYDAY=WE;UNTIL=20220105T140000Z
EXDATE;TZID=America/Chicago:20210602T080000,20210609T080000,20210616T080000,20210623T080000,20210630T080000,20210707T080000,20210714T080000,20210721T080000,20210728T080000,20210804T080000,20210811T080000,20210818T080000,20210825T080000
SUMMARY: Grand Rounds
DESCRIPTION: OBGYN ZOOM Link GRAND ROUNDS For information on weekly topics\
 , visit our Grand Rounds page. Due to the COVID-19 pandemic & education adm
 inistrative time changes\, GRs will take place virtually via ZOOM and will 
 start at 8:00 AM starting Wednesday 1/6. Active participation during Q&A is
  encouraged via appropriate entry in ZOOM chat. Use the link […]
X-ALT-DESC;FMTTYPE=text/html: <p><a class="wusm-button" href="https://wustl
 .ZOOM.us/j/298270049">OBGYN ZOOM Link GRAND ROUNDS</a></p><p>For informatio
 n on weekly topics\, visit our <a href="https://obgyn.wustl.edu/education/c
 me-grand-rounds/">Grand Rounds</a> page.</p><p>Due to the COVID-19 pandemic
  & education administrative time changes\, GRs will take place virtually vi
 a ZOOM and will <strong>start at 8:00 AM</strong> starting Wednesday 1/6. A
 ctive participation during Q&A is encouraged via appropriate entry in ZOOM 
 chat. Use the link below to connect.</p><div class="accordion-header"><h4><
 strong>How to get CME credit for Virtual Grand Rounds</strong></h4></div><d
 iv class="accordion-body-text"><p>Starting in January 2021\, you can receiv
 e Continued Med Education (CME) credits in one of two ways.</p><ul><li><spa
 n style="color: #000080\;"><strong>"Live Credit"</strong></span> is availab
 le upon entry (until 8:15am) onto the ZOOM GR where your <span style="text-
 decoration: underline\;">FULL NAME is clearly shown</span>. (If logging in 
 on your phone or other device please change your name so that is recognizab
 le).</li><li><span style="color: #000080\;"><strong>"Enduring CME Credit"</
 strong></span> is available on our previously recorded GRs up to 3 months f
 rom the presentation date. (Recordings will be posted within 24 hours of th
 e original presentation)<ul><li>Click on and watch the presentation you'd l
 ike credit for.</li><li>Then click the blue "Enduring CME Credit" link to t
 he right of the recording link. (first one to be posted by 1/8)</li><li>You
  will be taken to a login page (<u>first time users will need to create a l
 ogin/password)</u>. After self-enrolling into the specific talk\, you'll<di
 v>complete an attestation or answer questions to claim your CME credit.</di
 v></li></ul></li></ul></div>
CATEGORIES:Grand Rounds
ORGANIZER;CN="Marcy":MAILTO:marcylivingston@wustl.edu
URL;VALUE=URI:https://obgyn.wustl.edu/events/event/grand-rounds-36/
END:VEVENT
BEGIN:VTIMEZONE
TZID:America/Chicago
BEGIN:STANDARD
TZOFFSETFROM:-0500
TZOFFSETTO:-0600
DTSTART:20201101T070000
TZNAME:CST
END:STANDARD
BEGIN:DAYLIGHT
TZOFFSETFROM:-0600
TZOFFSETTO:-0500
DTSTART:20210314T080000
TZNAME:CDT
END:DAYLIGHT
BEGIN:STANDARD
TZOFFSETFROM:-0500
TZOFFSETTO:-0600
DTSTART:20211107T070000
TZNAME:CST
END:STANDARD
END:VTIMEZONE
END:VCALENDAR
