BEGIN:VCALENDAR
VERSION:2.0
PRODID:-//Obstetrics &amp; Gynecology//NONSGML Events//EN
CALSCALE:GREGORIAN
X-ORIGINAL-URL:https://obgyn.wustl.edu/events/
X-WR-CALDESC:Obstetrics &amp; Gynecology - Events
BEGIN:VEVENT
UID:20240801T1400Z-1722520846.4292-EO-32160-1@10.24.106.144
STATUS:CONFIRMED
DTSTAMP:20260420T113412Z
CREATED:20240801T134924Z
LAST-MODIFIED:20250403T202933Z
DTSTART;TZID=America/Chicago:20250409T091500
DTEND;TZID=America/Chicago:20250409T100000
SUMMARY: Grand Rounds
DESCRIPTION: Topic: “First\, Do No Harm: Urine Drug Screening\, Pregnancy\,
  and Policing” Speaker: Cassie Trammel\, MD Location: Parkview Tower A **A 
 zoom link will be provided to community members and those with off-campus c
 linical obligations.**
X-ALT-DESC;FMTTYPE=text/html: <p class="p1"><b>Topic</b>: "First\, Do No Ha
 rm: Urine Drug Screening\, Pregnancy\, and Policing"</p><p class="p1"><b>Sp
 eaker</b>: Cassie Trammel\, MD</p><p class="p1"><b>Location</b>: Parkview T
 ower A</p><p class="p1">**A zoom link will be provided to community members
  and those with off-campus clinical obligations.**</p>
CATEGORIES:Grand Rounds
ORGANIZER;CN="Allison":MAILTO:a.wyrsch@wustl.edu
URL;VALUE=URI:https://obgyn.wustl.edu/events/event/grand-rounds-54/
END:VEVENT
BEGIN:VTIMEZONE
TZID:America/Chicago
BEGIN:DAYLIGHT
TZOFFSETFROM:-0600
TZOFFSETTO:-0500
DTSTART:20250309T080000
TZNAME:CDT
END:DAYLIGHT
END:VTIMEZONE
END:VCALENDAR
