BEGIN:VCALENDAR
VERSION:2.0
PRODID:-//Obstetrics &amp; Gynecology//NONSGML Events//EN
CALSCALE:GREGORIAN
X-ORIGINAL-URL:https://obgyn.wustl.edu/events/
X-WR-CALDESC:Obstetrics &amp; Gynecology - Events
BEGIN:VEVENT
UID:20220728T1407Z-1659017246.8157-EO-18565-1@172.23.128.18
STATUS:CONFIRMED
DTSTAMP:20260422T030154Z
CREATED:20220728T140124Z
LAST-MODIFIED:20221003T131027Z
DTSTART;TZID=America/Chicago:20221019T080000
DTEND;TZID=America/Chicago:20221019T090000
SUMMARY: Grand Rounds: Delivering Effective Feedback
DESCRIPTION: Topic: Education Delivering Effective Feedback Speaker: Abby L
  Spencer MD\, MS\, FACP Professor and Vice Chair for Education Department o
 f Medicine Director\, Academy of Educators Washington University School of 
 Medicine – Objectives:  Define feedback Identify barriers to delivering fee
 dback Describe characteristics of effective feedback Zoom Link – must be lo
 gged on to receive CME credit
X-ALT-DESC;FMTTYPE=text/html: <p><strong>Topic</strong>: Education</p><p><s
 trong>Delivering Effective Feedback</strong></p><p><strong>Speaker</strong>
 :</p><p>Abby L Spencer MD\, MS\, FACP</p><p>Professor and Vice Chair for Ed
 ucation</p><p>Department of Medicine</p><p>Director\, Academy of Educators<
 /p><p>Washington University School of Medicine</p><p>-</p><p><em>Objectives
 :  </em></p><ul><li><em>Define feedback</em></li><li><em>Identify barriers 
 to delivering feedback</em></li><li><em>Describe characteristics of effecti
 ve feedback</em></li></ul><p><strong><a href="https://wustl-hipaa.zoom.us/s
 /94146739224">Zoom Link - must be logged on to receive CME credit</a></stro
 ng></p>
CATEGORIES:Grand Rounds
ORGANIZER;CN="Allison":MAILTO:a.wyrsch@wustl.edu
URL;VALUE=URI:https://obgyn.wustl.edu/events/event/grand-rounds-education/
END:VEVENT
BEGIN:VTIMEZONE
TZID:America/Chicago
BEGIN:DAYLIGHT
TZOFFSETFROM:-0600
TZOFFSETTO:-0500
DTSTART:20220313T080000
TZNAME:CDT
END:DAYLIGHT
END:VTIMEZONE
END:VCALENDAR
