BEGIN:VCALENDAR
VERSION:2.0
PRODID:-//Obstetrics &amp; Gynecology//NONSGML Events//EN
CALSCALE:GREGORIAN
X-ORIGINAL-URL:https://obgyn.wustl.edu/events/
X-WR-CALDESC:Obstetrics &amp; Gynecology - Events
BEGIN:VEVENT
UID:20220218T1815Z-1645208155.1349-EO-15335-1@172.23.128.19
STATUS:CONFIRMED
DTSTAMP:20260421T142056Z
CREATED:20220218T181250Z
LAST-MODIFIED:20220523T204905Z
DTSTART;TZID=America/Chicago:20220525T080000
DTEND;TZID=America/Chicago:20220525T090000
SUMMARY: Grand Rounds: Gyn Onc
DESCRIPTION: Topic: Gyn Onc – Official Title: Endometrial Cancer: Past\, Pr
 esent\, and Future” Michael Toboni\, M.D. MPH Clinical Fellow\, Gyn Onc Dep
 artment of Obstetrics & Gynecology Washington University School of Medicine
  Link to OBGYN ZOOM GRAND ROUNDS
X-ALT-DESC;FMTTYPE=text/html: <h4>Topic: Gyn Onc – Official Title: Endometr
 ial Cancer: Past\, Present\, and Future"</h4><div><p id="facultyDisplayName
 "><strong>Michael Toboni\, M.D. MPH</strong></p><p>Clinical Fellow\, Gyn On
 c<br /><span style="font-size: 1.125rem\;">Department of Obstetrics & Gynec
 ology<br />Washington University School of Medicine</span></p></div><div></
 div><div><a class="wusm-button" href="https://wustl-hipaa.zoom.us/j/9806289
 8745">Link to OBGYN ZOOM GRAND ROUNDS</a></div>
CATEGORIES:Grand Rounds
ORGANIZER;CN="Allison":MAILTO:a.wyrsch@wustl.edu
URL;VALUE=URI:https://obgyn.wustl.edu/events/event/grand-rounds-gyn-onc/
END:VEVENT
BEGIN:VTIMEZONE
TZID:America/Chicago
BEGIN:DAYLIGHT
TZOFFSETFROM:-0600
TZOFFSETTO:-0500
DTSTART:20220313T080000
TZNAME:CDT
END:DAYLIGHT
END:VTIMEZONE
END:VCALENDAR
