BEGIN:VCALENDAR
VERSION:2.0
PRODID:-//Obstetrics &amp; Gynecology//NONSGML Events//EN
CALSCALE:GREGORIAN
X-ORIGINAL-URL:https://obgyn.wustl.edu/events/
X-WR-CALDESC:Obstetrics &amp; Gynecology - Events
BEGIN:VEVENT
UID:20221212T2219Z-1670883554.8842-EO-22956-1@172.23.128.18
STATUS:CONFIRMED
DTSTAMP:20260424T073402Z
CREATED:20221212T220305Z
LAST-MODIFIED:20230411T203339Z
DTSTART;TZID=America/Chicago:20230419T080000
DTEND;TZID=America/Chicago:20230419T090000
SUMMARY: Grand Rounds: MFM/OB Protocols updates
DESCRIPTION: Review Update OB Protocols: Management of Severe Maternal hype
 rtension and Cervical Length Screening Speakers: Emily Cook\, PharmD (bio) 
 & Rebecca Rimsza\, MD (bio) Clinical Fellow\, Division of Maternal-Fetal Me
 dicine Washington University School of Medicine – Zoom Link – must be logge
 d on to receive CME credit
X-ALT-DESC;FMTTYPE=text/html: <p>Review Update OB Protocols: Management of 
 Severe Maternal hypertension and Cervical Length Screening</p><p><strong st
 yle="font-size: 1.125rem\;">Speakers</strong><span style="font-size: 1.125r
 em\;">:</span></p><p><strong>Emily Cook\, PharmD</strong> (<a title="Origin
 al URL: https://r20.rs6.net/tn.jsp?f=001KtFCGVzLWbaSrGSSLyqReOmlJRoWdc6e1nk
 kz5CE65jXwvaRBaxN3XFutbA_kx4vr371PSjxUZOLuNN0p3eYVE1ChYgg9bxq81b8QSIans-ZiC
 8PN7ctBn-4F1eZQtzR7SV5s7cZf1rVqdXy-m0TxFOSY7OvNxkDObZ112gpsDM=&c=0WLDtYbFK4
 sd4-ps-Lh8B6eSsCn2Ehw318E3gmIQ45wDGf6L_a0a1w==&ch=MsiV_mIBzsNCaXrFSlO4Hwhq5
 hM_N5XQJkJ2i_7FqVvHMxim8e6a0g==. Click or tap if you trust this link." href
 ="https://nam10.safelinks.protection.outlook.com/?url=https%3A%2F%2Fr20.rs6
 .net%2Ftn.jsp%3Ff%3D001KtFCGVzLWbaSrGSSLyqReOmlJRoWdc6e1nkkz5CE65jXwvaRBaxN
 3XFutbA_kx4vr371PSjxUZOLuNN0p3eYVE1ChYgg9bxq81b8QSIans-ZiC8PN7ctBn-4F1eZQtz
 R7SV5s7cZf1rVqdXy-m0TxFOSY7OvNxkDObZ112gpsDM%3D%26c%3D0WLDtYbFK4sd4-ps-Lh8B
 6eSsCn2Ehw318E3gmIQ45wDGf6L_a0a1w%3D%3D%26ch%3DMsiV_mIBzsNCaXrFSlO4Hwhq5hM_
 N5XQJkJ2i_7FqVvHMxim8e6a0g%3D%3D&data=05%7C01%7Ca.wyrsch%40wustl.edu%7Cde0f
 bfe124a04834333108db353103e6%7C4ccca3b571cd4e6d974b4d9beb96c6d6%7C0%7C0%7C6
 38162256852278486%7CUnknown%7CTWFpbGZsb3d8eyJWIjoiMC4wLjAwMDAiLCJQIjoiV2luM
 zIiLCJBTiI6Ik1haWwiLCJXVCI6Mn0%3D%7C3000%7C%7C%7C&sdata=Rc4zvs%2FaMapzUXbke
 gfC7B6c1uy6wpegYVKeXkvKQLs%3D&reserved=0" target="_blank" rel="noopener nor
 eferrer" data-auth="Verified" data-safelink="true" data-linkindex="9">bio</
 a>) &<br /><strong>Rebecca Rimsza\, MD</strong> (<a title="Original URL: ht
 tps://r20.rs6.net/tn.jsp?f=001KtFCGVzLWbaSrGSSLyqReOmlJRoWdc6e1nkkz5CE65jXw
 vaRBaxN3XFutbA_kx4vBl0LVg9mdLnLKFEqfT1dpts1UWrOjezeI9DgxVYSAbKtblULXctnP8Wb
 JwQ9na3EGVngEwQmk8C5mswoMllOZ9HK7-tOEOrmxM5ckY4Ec6H52iMqG90EDQ==&c=0WLDtYbF
 K4sd4-ps-Lh8B6eSsCn2Ehw318E3gmIQ45wDGf6L_a0a1w==&ch=MsiV_mIBzsNCaXrFSlO4Hwh
 q5hM_N5XQJkJ2i_7FqVvHMxim8e6a0g==. Click or tap if you trust this link." hr
 ef="https://nam10.safelinks.protection.outlook.com/?url=https%3A%2F%2Fr20.r
 s6.net%2Ftn.jsp%3Ff%3D001KtFCGVzLWbaSrGSSLyqReOmlJRoWdc6e1nkkz5CE65jXwvaRBa
 xN3XFutbA_kx4vBl0LVg9mdLnLKFEqfT1dpts1UWrOjezeI9DgxVYSAbKtblULXctnP8WbJwQ9n
 a3EGVngEwQmk8C5mswoMllOZ9HK7-tOEOrmxM5ckY4Ec6H52iMqG90EDQ%3D%3D%26c%3D0WLDt
 YbFK4sd4-ps-Lh8B6eSsCn2Ehw318E3gmIQ45wDGf6L_a0a1w%3D%3D%26ch%3DMsiV_mIBzsNC
 aXrFSlO4Hwhq5hM_N5XQJkJ2i_7FqVvHMxim8e6a0g%3D%3D&data=05%7C01%7Ca.wyrsch%40
 wustl.edu%7Cde0fbfe124a04834333108db353103e6%7C4ccca3b571cd4e6d974b4d9beb96
 c6d6%7C0%7C0%7C638162256852278486%7CUnknown%7CTWFpbGZsb3d8eyJWIjoiMC4wLjAwM
 DAiLCJQIjoiV2luMzIiLCJBTiI6Ik1haWwiLCJXVCI6Mn0%3D%7C3000%7C%7C%7C&sdata=yaX
 YfbrHy6F1cIHC%2BLbfy%2FS%2By6I8tlQ55uCHmhKlwIk%3D&reserved=0" target="_blan
 k" rel="noopener noreferrer" data-auth="Verified" data-safelink="true" data
 -linkindex="10">bio</a>)<br />Clinical Fellow\, Division of Maternal-Fetal 
 Medicine<br />Washington University School of Medicine</p><p><span style="f
 ont-size: 1.125rem\;">-</span></p><p><strong><a href="https://wustl-hipaa.z
 oom.us/s/94146739224">Zoom Link - must be logged on to receive CME credit</
 a></strong></p>
CATEGORIES:Grand Rounds
ORGANIZER;CN="Allison":MAILTO:a.wyrsch@wustl.edu
URL;VALUE=URI:https://obgyn.wustl.edu/events/event/grand-rounds-mfm-ob-prot
 ocols/
END:VEVENT
BEGIN:VTIMEZONE
TZID:America/Chicago
BEGIN:DAYLIGHT
TZOFFSETFROM:-0600
TZOFFSETTO:-0500
DTSTART:20230312T080000
TZNAME:CDT
END:DAYLIGHT
END:VTIMEZONE
END:VCALENDAR
