BEGIN:VCALENDAR
VERSION:2.0
PRODID:-//Obstetrics &amp; Gynecology//NONSGML Events//EN
CALSCALE:GREGORIAN
X-ORIGINAL-URL:https://obgyn.wustl.edu/events/
X-WR-CALDESC:Obstetrics &amp; Gynecology - Events
BEGIN:VEVENT
UID:20190315T1706Z-1552669581.9103-EO-8401-1@172.23.128.19
STATUS:CONFIRMED
DTSTAMP:20260421T225231Z
CREATED:20190315T170522Z
LAST-MODIFIED:20190315T170522Z
DTSTART;TZID=America/Chicago:20181205T070000
DTEND;TZID=America/Chicago:20181205T080000
SUMMARY: Grand Rounds – M&M
DESCRIPTION: Educational Objectives: From the previous month of clinical co
 mplication case reviews\, 1 Obstetrical and 1 Gynecological case will be se
 lected and presented. A brief literature review will cover an aspect of the
  complication. A respective sub-specialist will moderate and discuss each c
 ase presentation. MUST SIGN IN BY 7:15 AM TO RECEIVE CONTINUING MEDICAL EDU
 CATION CREDIT […]
X-ALT-DESC;FMTTYPE=text/html: <table cellspacing="0" cellpadding="0"><tbody
 ><tr><td valign="top"><b>Educational Objectives: </b>From the previous mont
 h of clinical complication case reviews\, 1 Obstetrical and 1 Gynecological
  case will be selected and presented. A brief literature review will cover 
 an aspect of the complication. A respective sub-specialist will moderate an
 d discuss each case presentation.</td></tr></tbody></table><hr /><p>MUST SI
 GN IN BY 7:15 AM TO RECEIVE CONTINUING MEDICAL EDUCATION CREDIT</p><p><a cl
 ass="wusm-button" href="http://wustl.adobeconnect.com/obgyn2017">SIMULTANEO
 US TELECAST (no CMEs)</a></p><p><em>Additional information: contact Patti S
 asse in the Department of OB/GYN at (314) 362-1016</em></p>
CATEGORIES:Grand Rounds
LOCATION:Wohl Clinic - Clopton Auditorium (ground floor)
GEO:38.636995;-90.264349
ORGANIZER;CN="Marcy":MAILTO:marcylivingston@wustl.edu
URL;VALUE=URI:https://obgyn.wustl.edu/events/event/grand-rounds-mm-4/
END:VEVENT
BEGIN:VTIMEZONE
TZID:America/Chicago
BEGIN:STANDARD
TZOFFSETFROM:-0500
TZOFFSETTO:-0600
DTSTART:20181104T070000
TZNAME:CST
END:STANDARD
END:VTIMEZONE
END:VCALENDAR
