BEGIN:VCALENDAR
VERSION:2.0
PRODID:-//Obstetrics &amp; Gynecology//NONSGML Events//EN
CALSCALE:GREGORIAN
X-ORIGINAL-URL:https://obgyn.wustl.edu/events/
X-WR-CALDESC:Obstetrics &amp; Gynecology - Events
BEGIN:VEVENT
UID:20190315T1718Z-1552670294.4526-EO-8407-1@172.23.128.19
STATUS:CONFIRMED
DTSTAMP:20260423T002650Z
CREATED:20190315T170729Z
LAST-MODIFIED:20190315T170729Z
DTSTART;TZID=America/Chicago:20181219T070000
DTEND;TZID=America/Chicago:20181219T080000
SUMMARY: Grand Rounds – M&M
DESCRIPTION: Educational Objectives: Will consist of only one case … a high
 ly complicated & most interesting Pediatric & Adolescent Gyn case … coverin
 g multiple pathological events over an extended period of time.  MUST SIGN 
 IN BY 7:15 AM TO RECEIVE CONTINUING MEDICAL EDUCATION CREDIT SIMULTANEOUS T
 ELECAST (no CMEs) Additional information: contact Patti Sasse in the Depart
 ment of […]
X-ALT-DESC;FMTTYPE=text/html: <table cellspacing="0" cellpadding="0"><tbody
 ><tr><td valign="top"><b>Educational Objectives: </b>Will consist of only o
 ne case … a highly complicated & most interesting<span class="Apple-convert
 ed-space"><br /></span>Pediatric & Adolescent Gyn case … covering multiple 
 pathological events over an extended period of time.<span class="Apple-conv
 erted-space"> </span></td></tr></tbody></table><hr /><p>MUST SIGN IN BY 7:1
 5 AM TO RECEIVE CONTINUING MEDICAL EDUCATION CREDIT</p><p><a class="wusm-bu
 tton" href="http://wustl.adobeconnect.com/obgyn2017">SIMULTANEOUS TELECAST 
 (no CMEs)</a></p><p><em>Additional information: contact Patti Sasse in the 
 Department of OB/GYN at (314) 362-1016</em></p>
CATEGORIES:Grand Rounds
LOCATION:Wohl Clinic - Clopton Auditorium (ground floor)
GEO:38.636995;-90.264349
ORGANIZER;CN="Marcy":MAILTO:marcylivingston@wustl.edu
URL;VALUE=URI:https://obgyn.wustl.edu/events/event/grand-rounds-mm-5/
END:VEVENT
BEGIN:VTIMEZONE
TZID:America/Chicago
BEGIN:STANDARD
TZOFFSETFROM:-0500
TZOFFSETTO:-0600
DTSTART:20181104T070000
TZNAME:CST
END:STANDARD
END:VTIMEZONE
END:VCALENDAR
