BEGIN:VCALENDAR
VERSION:2.0
PRODID:-//Obstetrics &amp; Gynecology//NONSGML Events//EN
CALSCALE:GREGORIAN
X-ORIGINAL-URL:https://obgyn.wustl.edu/events/
X-WR-CALDESC:Obstetrics &amp; Gynecology - Events
BEGIN:VEVENT
UID:20221212T2153Z-1670882002.4261-EO-22929-1@172.23.128.18
STATUS:CONFIRMED
DTSTAMP:20260422T120157Z
CREATED:20221212T215242Z
LAST-MODIFIED:20221229T170715Z
DTSTART;TZID=America/Chicago:20230125T080000
DTEND;TZID=America/Chicago:20230125T090000
SUMMARY: Grand Rounds: Physical Therapy for the Postpartum Population
DESCRIPTION: Speakers: Sara Alhajeri PT\, GCS\, SCCE TITLE: Physical Therap
 y for the Postpartum Population OBJECTIVES: Describe common post-partum co-
 morbidities in multiple systems of the body Explain how physical therapy in
 tervention can prevent and treat common co-morbidities of pregnancy – DISCL
 OSURES: Speakers have no disclosures or conflicts of interest to report – Z
 oom Link – must be […]
X-ALT-DESC;FMTTYPE=text/html: <p>Speakers:</p><p><strong>Sara Alhajeri PT\,
  GCS\, SCCE</strong></p><p class="x_x_MsoNormal x_FluidPluginCopy x_Content
 Pasted0"><b class="x_ContentPasted0">TITLE</b>: Physical Therapy for the Po
 stpartum Population</p><p class="x_x_MsoNormal x_FluidPluginCopy"><br class
 ="x_ContentPasted0" aria-hidden="true" /><b class="x_ContentPasted0">OBJECT
 IVES:</b></p><p class="x_x_MsoNormal x_FluidPluginCopy x_ContentPasted0">De
 scribe common post-partum co-morbidities in multiple systems of the body</p
 ><p class="x_x_MsoNormal x_FluidPluginCopy x_ContentPasted0">Explain how ph
 ysical therapy intervention can prevent and treat common co-morbidities of 
 pregnancy</p><p>-</p><p class="x_x_MsoNormal x_FluidPluginCopy x_ContentPas
 ted0"><b class="x_ContentPasted0">DISCLOSURES:</b></p><p class="x_x_MsoNorm
 al x_FluidPluginCopy x_ContentPasted0">Speakers have no disclosures or conf
 licts of interest to report</p><p>-</p><p><strong><a href="https://wustl-hi
 paa.zoom.us/s/94146739224">Zoom Link - must be logged on to receive CME cre
 dit</a></strong></p><p> </p>
CATEGORIES:Grand Rounds
ORGANIZER;CN="Allison":MAILTO:a.wyrsch@wustl.edu
URL;VALUE=URI:https://obgyn.wustl.edu/events/event/grand-rounds-physical-th
 erapy/
END:VEVENT
BEGIN:VTIMEZONE
TZID:America/Chicago
BEGIN:STANDARD
TZOFFSETFROM:-0500
TZOFFSETTO:-0600
DTSTART:20221106T070000
TZNAME:CST
END:STANDARD
END:VTIMEZONE
END:VCALENDAR
