BEGIN:VCALENDAR
VERSION:2.0
PRODID:-//Obstetrics &amp; Gynecology//NONSGML Events//EN
CALSCALE:GREGORIAN
X-ORIGINAL-URL:https://obgyn.wustl.edu/events/
X-WR-CALDESC:Obstetrics &amp; Gynecology - Events
BEGIN:VEVENT
UID:20221212T2201Z-1670882479.5979-EO-22947-1@172.23.128.18
STATUS:CONFIRMED
DTSTAMP:20260417T233448Z
CREATED:20221212T215951Z
LAST-MODIFIED:20230313T135109Z
DTSTART;TZID=America/Chicago:20230322T080000
DTEND;TZID=America/Chicago:20230322T090000
SUMMARY: Grand Rounds: PROBSTEIN LECTURESHIP
DESCRIPTION: Speaker: Ramez Eskander\, MD Topic: Probstein Research Lecture
 : Treatment of Advanced Stage and Recurrent Endometrial Cancer: Moving from
  the Light Microscope to the Molecular Microscope – Zoom Link – must be log
 ged on to receive CME credit
X-ALT-DESC;FMTTYPE=text/html: <p><strong style="font-size: 1.125rem\;">Spea
 ker</strong><span style="font-size: 1.125rem\;">: <a href="https://provider
 s.ucsd.edu/details/32734/obstetrics-gynecology-cancer"><strong>Ramez Eskand
 er\, MD</strong></a></span></p><p><strong>Topic</strong>:</p><p><strong>Pro
 bstein Research Lecture</strong>: Treatment of Advanced Stage and Recurrent
  Endometrial Cancer: Moving from the Light Microscope to the Molecular Micr
 oscope</p><p><span style="font-size: 1.125rem\;">-</span></p><p><strong><a 
 href="https://wustl-hipaa.zoom.us/s/94146739224">Zoom Link - must be logged
  on to receive CME credit</a></strong></p>
CATEGORIES:Grand Rounds
ORGANIZER;CN="Allison":MAILTO:a.wyrsch@wustl.edu
URL;VALUE=URI:https://obgyn.wustl.edu/events/event/grand-rounds-probstein-l
 ectureship/
END:VEVENT
BEGIN:VTIMEZONE
TZID:America/Chicago
BEGIN:DAYLIGHT
TZOFFSETFROM:-0600
TZOFFSETTO:-0500
DTSTART:20230312T080000
TZNAME:CDT
END:DAYLIGHT
END:VTIMEZONE
END:VCALENDAR
