BEGIN:VCALENDAR
VERSION:2.0
PRODID:-//Obstetrics &amp; Gynecology//NONSGML Events//EN
CALSCALE:GREGORIAN
X-ORIGINAL-URL:https://obgyn.wustl.edu/events/
X-WR-CALDESC:Obstetrics &amp; Gynecology - Events
BEGIN:VEVENT
UID:20221212T2158Z-1670882326.6103-EO-22941-1@172.23.128.18
STATUS:CONFIRMED
DTSTAMP:20260424T200059Z
CREATED:20221212T215814Z
LAST-MODIFIED:20230313T135014Z
DTSTART;TZID=America/Chicago:20230308T080000
DTEND;TZID=America/Chicago:20230308T090000
SUMMARY: Grand Rounds: Sexuality
DESCRIPTION: Speaker: Becky Lynn\, MD Topic: 60 Minutes of Sexual Wellness 
 – Zoom Link – must be logged on to receive CME credit
X-ALT-DESC;FMTTYPE=text/html: <p><strong style="font-size: 1.125rem\;">Spea
 ker</strong><span style="font-size: 1.125rem\;">: <strong><a href="https://
 evorawomen.com/meet-dr-lynn">Becky Lynn</a>\, MD</strong></span></p><p><str
 ong>Topic</strong>: 60 Minutes of Sexual Wellness</p><p>-</p><p><strong><a 
 href="https://wustl-hipaa.zoom.us/s/94146739224">Zoom Link - must be logged
  on to receive CME credit</a></strong></p>
CATEGORIES:Grand Rounds
ORGANIZER;CN="Allison":MAILTO:a.wyrsch@wustl.edu
URL;VALUE=URI:https://obgyn.wustl.edu/events/event/grand-rounds-sexuality/
END:VEVENT
BEGIN:VTIMEZONE
TZID:America/Chicago
BEGIN:STANDARD
TZOFFSETFROM:-0500
TZOFFSETTO:-0600
DTSTART:20221106T070000
TZNAME:CST
END:STANDARD
END:VTIMEZONE
END:VCALENDAR
