BEGIN:VCALENDAR
VERSION:2.0
PRODID:-//Obstetrics &amp; Gynecology//NONSGML Events//EN
CALSCALE:GREGORIAN
X-ORIGINAL-URL:https://obgyn.wustl.edu/events/
X-WR-CALDESC:Obstetrics &amp; Gynecology - Events
BEGIN:VEVENT
UID:20220728T1407Z-1659017246.8076-EO-18568-1@172.23.128.18
STATUS:CONFIRMED
DTSTAMP:20260417T233305Z
CREATED:20220728T140551Z
LAST-MODIFIED:20221003T131349Z
DTSTART;TZID=America/Chicago:20220928T080000
DTEND;TZID=America/Chicago:20220928T090000
SUMMARY: Grand Rounds: Visiting Speaker
DESCRIPTION: Topic: COVID Update / Flu risks & Management – OB/GYN Speaker:
  Steven J. Lawrence\, MD\, MSc Professor of Medicine Assistant Dean for Cur
 riculum and Clinical Sciences\, Office of Medical Student Education Washing
 ton University in St. Louis Division of Infectious Diseases Institute for P
 ublic Health Institute of Clinical and Translational Sciences Siteman Cance
 r Center Washington University School of […]
X-ALT-DESC;FMTTYPE=text/html: <p><strong>Topic</strong>: COVID Update / <sp
 an class="mark1k3cc2nr5" data-markjs="true" data-ogac="" data-ogab="" data-
 ogsc="" data-ogsb="">Flu</span> risks & Management - OB/GYN</p><p><strong>S
 peaker</strong>:</p><p><strong><a href="https://infectiousdiseases.wustl.ed
 u/people/steven-j-lawrence/">Steven J. Lawrence\, MD\, MSc</a></strong><br 
 />Professor of Medicine<br />Assistant Dean for Curriculum and Clinical Sci
 ences\, Office of Medical Student Education<br />Washington University in S
 t. Louis</p><p><a href="https://profiles.wustl.edu/en/organisations/divisio
 n-of-infectious-diseases" target="_blank" rel="noopener noreferrer" data-au
 th="NotApplicable" data-linkindex="0">Division of Infectious Diseases</a></
 p><p><a href="https://profiles.wustl.edu/en/organisations/institute-for-pub
 lic-health" target="_blank" rel="noopener noreferrer" data-auth="NotApplica
 ble" data-linkindex="1">Institute for Public Health</a></p><p><a href="http
 s://profiles.wustl.edu/en/organisations/institute-of-clinical-and-translati
 onal-sciences" target="_blank" rel="noopener noreferrer" data-auth="NotAppl
 icable" data-linkindex="2">Institute of Clinical and Translational Sciences
 </a></p><p><a href="https://profiles.wustl.edu/en/organisations/siteman-can
 cer-center" target="_blank" rel="noopener noreferrer" data-auth="NotApplica
 ble" data-linkindex="3">Siteman Cancer Center</a></p><p>Washington Universi
 ty School of Medicine</p><p aria-hidden="true">-</p><p aria-hidden="true"><
 strong><a href="https://wustl-hipaa.zoom.us/s/94146739224">Zoom Link - must
  be logged on to receive CME credit</a></strong></p>
CATEGORIES:Grand Rounds,Visiting Speakers
ORGANIZER;CN="Allison":MAILTO:a.wyrsch@wustl.edu
URL;VALUE=URI:https://obgyn.wustl.edu/events/event/grand-rounds-visiting-sp
 eaker/
END:VEVENT
BEGIN:VTIMEZONE
TZID:America/Chicago
BEGIN:DAYLIGHT
TZOFFSETFROM:-0600
TZOFFSETTO:-0500
DTSTART:20220313T080000
TZNAME:CDT
END:DAYLIGHT
END:VTIMEZONE
END:VCALENDAR
