BEGIN:VCALENDAR
VERSION:2.0
PRODID:-//Obstetrics &amp; Gynecology//NONSGML Events//EN
CALSCALE:GREGORIAN
X-ORIGINAL-URL:https://obgyn.wustl.edu/events/
X-WR-CALDESC:Obstetrics &amp; Gynecology - Events
BEGIN:VEVENT
UID:20220728T1359Z-1659016765.1076-EO-18556-1@172.23.128.19
STATUS:CONFIRMED
DTSTAMP:20260424T200139Z
CREATED:20220728T135305Z
LAST-MODIFIED:20221027T182043Z
DTSTART;TZID=America/Chicago:20221012T080000
DTEND;TZID=America/Chicago:20221012T090000
SUMMARY: Grand Rounds: Visiting Speaker – Anesthesia
DESCRIPTION: Topic: The Management of Pelvic Pain – a Pain Physician’s Pers
 pective Speakers: Jessica Justmann\, MD Via Chief Lesley Rao\, MD & Bob Swa
 rm\, MD Assistant Professor\, Pain Management Center Department of Anesthes
 iology Washington University School of Medicine – Objectives Introduce medi
 cation options available to manage pelvic pain Explain the role of the mult
 idisciplinary model of […]
X-ALT-DESC;FMTTYPE=text/html: <p><strong>Topic</strong>: The Management of 
 Pelvic Pain - a Pain Physician's Perspective</p><p><strong>Speakers</strong
 >: <a href="https://physicians.wustl.edu/people/jessica-j-justmann-md/">Jes
 sica Justmann\, MD </a>Via Chief <a href="https://physicians.wustl.edu/peop
 le/lesley-k-rao-md/">Lesley Rao\, MD</a> & <a href="https://physicians.wust
 l.edu/people/robert-a-swarm-md/">Bob Swarm\, MD</a></p><p>Assistant Profess
 or\, Pain Management Center</p><p>Department of Anesthesiology</p><p>Washin
 gton University School of Medicine</p><p>-</p><p><em>Objectives</em></p><ul
 ><li><em>Introduce medication options available to manage pelvic pain</em><
 /li><li><em>Explain the role of the multidisciplinary model of pain in the 
 management of pelvic pain</em></li><li><em>Understand the role of advanced 
 interventional procedures for controlling pelvic pain </em></li></ul><p><st
 rong><a href="https://wustl-hipaa.zoom.us/s/94146739224">Zoom Link - must b
 e logged on to receive CME credit</a></strong></p>
CATEGORIES:Grand Rounds,Visiting Speakers
ORGANIZER;CN="Allison":MAILTO:a.wyrsch@wustl.edu
URL;VALUE=URI:https://obgyn.wustl.edu/events/event/grand-rounds-visiting-sp
 eakers-anesthesia/
END:VEVENT
BEGIN:VTIMEZONE
TZID:America/Chicago
BEGIN:DAYLIGHT
TZOFFSETFROM:-0600
TZOFFSETTO:-0500
DTSTART:20220313T080000
TZNAME:CDT
END:DAYLIGHT
END:VTIMEZONE
END:VCALENDAR
