BEGIN:VCALENDAR
VERSION:2.0
PRODID:-//Obstetrics &amp; Gynecology//NONSGML Events//EN
CALSCALE:GREGORIAN
X-ORIGINAL-URL:https://obgyn.wustl.edu/events/
X-WR-CALDESC:Obstetrics &amp; Gynecology - Events
BEGIN:VEVENT
UID:20210329T1959Z-1617047963.4371-EO-9253-1@172.23.128.18
STATUS:CONFIRMED
DTSTAMP:20260420T145202Z
CREATED:20221215T194442Z
LAST-MODIFIED:20221215T194442Z
DTSTART;TZID=America/Chicago:20210414T120000
DTEND;TZID=America/Chicago:20210414T133000
SUMMARY: HELA100 – Race and Eugenics
DESCRIPTION: Join School of Medicine’s Office of Diversity\, Equity\, and I
 nclusion and the Division of Biology and Biomedical Science’s Diversity\, E
 quity\, and Inclusion and Student and Alumni Affairs for a discussion regar
 ding race and eugenics in relation to Henrietta Lacks. This program seeks t
 o be a critical space for participants to recognize how science has perpetu
 ated […]
X-ALT-DESC;FMTTYPE=text/html: <p>Join School of Medicine's Office of Divers
 ity\, Equity\, and Inclusion and the Division of Biology and Biomedical Sci
 ence's Diversity\, Equity\, and Inclusion and Student and Alumni Affairs fo
 r a discussion regarding race and eugenics in relation to Henrietta Lacks.<
 /p><p>This program seeks to be a critical space for participants to recogni
 ze how science has perpetuated harmful and racist narratives that deeply af
 fect marginalized communities. Participants will read a short selection of 
 pre-work to prepare for the discussion. This program is part of WUSTL's com
 memoration of Henrietta Lacks' 100th birthday.</p><p><strong>Please note</s
 trong> - We will be having small group activities as part of this seminar\,
  in addition to pre-work<span data-contrast="auto">. </span><span data-cont
 rast="auto">We hope you will be able to engage with these brief readings as
  a primer for our discussion. Please come prepared for an active learning e
 nvironment by reviewing these very informative articles. </span><span data-
 ccp-props="{"134233279":true}"> </span></p><ul><li><p class="content-title"
 ><a href="https://www.ncbi.nlm.nih.gov/pmc/articles/PMC2757926/">U.S. Scien
 tists' Role in the Eugenics Movement (1907–1939): A Contemporary Biologist'
 s Perspective</a></p></li><li><p class="text-center"><a href="https://www.u
 n.org/en/chronicle/article/ideology-racism-misusing-science-justify-racial-
 discrimination">The Ideology of Racism: Misusing Science to Justify Racial 
 Discrimination</a></p></li><li><p class="headline"><a href="https://www.smi
 thsonianmag.com/science-nature/disturbing-resilience-scientific-racism-1809
 72243/">The Disturbing Resilience of Scientific Racism</a></p></li></ul><p>
 Please register to attend on April 14\, 2021\, 12:00 PM - 1:30 PM:</p><p>[f
 ormidable id="160"]</p><p><strong>Individuals with disabilities are encoura
 ged to attend all Washington University School of Medicine sponsored events
 .  If you are a person with a disability who requires a reasonable accommod
 ation in order to participate in this event\, please contact the Washington
  University School of Medicine Office of Diversity\, Equity and Inclusion i
 n advance at 314-273-2809 or </strong><a href="mailto:MedDEI@wustl.edu"><st
 rong>MedDEI@wustl.edu</strong></a><strong>.</strong></p>
LOCATION:Zoom (Virtual)
GEO:38.635102;-90.262792
ORGANIZER;CN="Marcy":MAILTO:marcylivingston@wustl.edu
URL;VALUE=URI:https://obgyn.wustl.edu/events/event/hela100-race-and-eugenic
 s/
END:VEVENT
BEGIN:VTIMEZONE
TZID:America/Chicago
BEGIN:DAYLIGHT
TZOFFSETFROM:-0600
TZOFFSETTO:-0500
DTSTART:20210314T080000
TZNAME:CDT
END:DAYLIGHT
END:VTIMEZONE
END:VCALENDAR
