BEGIN:VCALENDAR
VERSION:2.0
PRODID:-//Obstetrics &amp; Gynecology//NONSGML Events//EN
CALSCALE:GREGORIAN
X-ORIGINAL-URL:https://obgyn.wustl.edu/events/
X-WR-CALDESC:Obstetrics &amp; Gynecology - Events
BEGIN:VEVENT
UID:20180417T1918Z-1523992728.7127-EO-6006-1@172.20.65.30
STATUS:CONFIRMED
DTSTAMP:20260424T200108Z
CREATED:20180417T191055Z
LAST-MODIFIED:20180417T191350Z
DTSTART;TZID=America/Chicago:20180419T140000
DTEND;TZID=America/Chicago:20180419T170000
SUMMARY: Inaugural Presentations Research Post-docs and Clinical Fellows
DESCRIPTION: 1st Floor – Farrell Learning & Teaching Center (FLTC) Receptio
 n following – 2nd Floor FLTC BASIC/TRANSLATIONAL RESEARCH Overview of the D
 ivision of Center for Reproductive Health Sciences Indira Mysorekar\, PhD T
 itle: The role of autophagy in endometrial stromal cell decidualization Pre
 senter: Arin Oestreich\, PhD Title: Effect of estrogen therapy on the postm
 enopausal inflammatory bladder state […]
X-ALT-DESC;FMTTYPE=text/html: <p>1st Floor - Farrell Learning & Teaching Ce
 nter (FLTC)<br />Reception following - 2nd Floor FLTC</p><p class="intro-te
 xt" style="text-align: left\;">BASIC/TRANSLATIONAL RESEARCH</p><p style="te
 xt-align: left\;"><strong>Overview of the Division of Center for Reproducti
 ve Health Sciences<br /><span style="color: #800000\;"><em>Indira Mysorekar
 \, PhD</em></span></strong></p><p style="text-align: left\;"><strong><em>Ti
 tle:</em></strong> The role of autophagy in endometrial stromal cell decidu
 alization<br /><strong><em>Presenter:</em><span style="color: #800000\;"><e
 m> Arin Oestreich\, PhD</em></span></strong></p><p style="text-align: left\
 ;"><strong><em>Title:</em></strong> Effect of estrogen therapy on the postm
 enopausal inflammatory bladder state<br /><strong><em>Presenter:</em><span 
 style="color: #800000\;"><em> Melanie Meister\, MD</em></span></strong></p>
 <p style="text-align: left\;"><strong><em>Title:</em></strong> What happens
  in the stroma\, doesn’t stay in the stroma: The story of metastasis<br /><
 strong><em>Presenter:</em><span style="color: #800000\;"><em> Molly Greenwa
 de\, MD</em></span></strong></p><p style="text-align: left\;"><strong> </st
 rong></p><p class="intro-text" style="text-align: left\;">CLINICAL RESEARCH
 </p><p style="text-align: left\;"><strong>Overview of the Division of Clini
 cal Research<br /></strong><span style="color: #800000\;"><strong><em>Metho
 dius Tuuli\, MD\, MPH</em></strong></span></p><p style="text-align: left\;"
 ><strong><em>Title:</em></strong> Oxygen for Category II Intrauterine Resus
 citation: a randomized non-inferiority trial<br /><strong><em>Presenter:</e
 m><span style="color: #800000\;"><em> Nandini Raghuraman\, MD</em></span></
 strong></p><p style="text-align: left\;"><strong><em>Title:</em></strong> A
 ntenatal Corticosteroids and the Risk of Neonatal Hypoglycemia<br /><strong
 ><em>Presenter:</em><span style="color: #800000\;"><em> Kristina E. Sondger
 oth\, MD</em></span></strong></p><p style="text-align: left\;"><strong><em>
 Title:</em></strong> Effect of Endometrial Mechanical Stimulation in an Uns
 elected Population Undergoing in vitro Fertilization: Futility Analysis of 
 a Double Blind Randomized Controlled Trial<br /><strong><em>Presenter:</em>
 <span style="color: #800000\;"><em> Ashley Eskew\, MD</em></span></strong><
 /p>
CATEGORIES:Annual Events
LOCATION:Connor Auditorium
GEO:38.635265;-90.263030
ORGANIZER;CN="Marcy":MAILTO:marcylivingston@wustl.edu
URL;VALUE=URI:https://obgyn.wustl.edu/events/event/inaugural-presentations-
 research-post-docs-and-clinical-fellows/
END:VEVENT
BEGIN:VTIMEZONE
TZID:America/Chicago
BEGIN:DAYLIGHT
TZOFFSETFROM:-0600
TZOFFSETTO:-0500
DTSTART:20180311T080000
TZNAME:CDT
END:DAYLIGHT
END:VTIMEZONE
END:VCALENDAR
