BEGIN:VCALENDAR
VERSION:2.0
PRODID:-//Obstetrics &amp; Gynecology//NONSGML Events//EN
CALSCALE:GREGORIAN
X-ORIGINAL-URL:https://obgyn.wustl.edu/events/
X-WR-CALDESC:Obstetrics &amp; Gynecology - Events
BEGIN:VEVENT
UID:20201111T2234Z-1605134054.1283-EO-7910-1@172.23.128.18
STATUS:CONFIRMED
DTSTAMP:20260424T164221Z
CREATED:20221215T194435Z
LAST-MODIFIED:20221215T194435Z
DTSTART;TZID=America/Chicago:20201109T120000
DTEND;TZID=America/Chicago:20201109T130000
SUMMARY: Introduction to the US Government & Legislative Process
DESCRIPTION: Brown School\, Open Classroom  Want a basics civics refresher?
  This webinar will go over the fundamentals of the US government\, includin
 g the three branches of government\, how a bill becomes law\, and the feder
 al budgeting process. This program is presented in partnership with the Cla
 rk-Fox Policy Institute.
X-ALT-DESC;FMTTYPE=text/html: <p><strong>Brown School\, Open Classroom</str
 ong></p><p><strong> </strong>Want a basics civics refresher? This webinar w
 ill go over the fundamentals of the US government\, including the three bra
 nches of government\, how a bill becomes law\, and the federal budgeting pr
 ocess. This program is presented in partnership with the Clark-Fox Policy I
 nstitute.</p>
ORGANIZER;CN="Marcy":MAILTO:marcylivingston@wustl.edu
URL;VALUE=URI:https://obgyn.wustl.edu/events/event/introduction-to-the-us-g
 overnment-legislative-process/
END:VEVENT
BEGIN:VTIMEZONE
TZID:America/Chicago
BEGIN:STANDARD
TZOFFSETFROM:-0500
TZOFFSETTO:-0600
DTSTART:20201101T070000
TZNAME:CST
END:STANDARD
END:VTIMEZONE
END:VCALENDAR
