BEGIN:VCALENDAR
VERSION:2.0
PRODID:-//Obstetrics &amp; Gynecology//NONSGML Events//EN
CALSCALE:GREGORIAN
X-ORIGINAL-URL:https://obgyn.wustl.edu/events/
X-WR-CALDESC:Obstetrics &amp; Gynecology - Events
BEGIN:VEVENT
UID:20170906T1848Z-1504723713.027-EO-4361-1@172.20.65.30
STATUS:CONFIRMED
DTSTAMP:20260417T233209Z
CREATED:20170905T215035Z
LAST-MODIFIED:20170925T181853Z
DTSTART;TZID=America/Chicago:20170929T090000
DTEND;TZID=America/Chicago:20170929T100000
SUMMARY: CRepHS Seminar: Jeremie Ferey\, PhD
DESCRIPTION: Jeremie Ferey\, PhD Postdoctoral Research Associate Department
  of Obstetrics and Gynecology Washington University in St. Louis Title: “Ma
 ternal Diet-Induced Obesity Leads to Mitochondrial Dysfunction in Three Suc
 cessive Generations of Offspring” Host/Lab: Moley View more information on 
 the Moley lab research »
X-ALT-DESC;FMTTYPE=text/html: <p><span style="color: #800000\;"><strong>Jer
 emie Ferey\, PhD</strong></span><br />Postdoctoral Research Associate<br />
 Department of Obstetrics and Gynecology<br />Washington University in St. L
 ouis</p><p>Title: <strong>"Maternal Diet-Induced Obesity Leads to Mitochond
 rial Dysfunction in Three Successive Generations of Offspring"</strong></p>
 <p>Host/Lab: Moley</p><p><a href="https://reproductivesciences.wustl.edu/la
 boratories/moley-lab/">View more information on the Moley lab research »</a
 ></p>
CATEGORIES:CRepHS Basic Science Seminars
LOCATION:BJCIH Conference Room 10AB
GEO:38.636692;-90.263454
ORGANIZER;CN="Magdalena":MAILTO:mdnelson@wustl.edu
URL;VALUE=URI:https://obgyn.wustl.edu/events/event/jeremie-ferey-phd/
END:VEVENT
BEGIN:VTIMEZONE
TZID:America/Chicago
BEGIN:DAYLIGHT
TZOFFSETFROM:-0600
TZOFFSETTO:-0500
DTSTART:20170312T080000
TZNAME:CDT
END:DAYLIGHT
END:VTIMEZONE
END:VCALENDAR
