BEGIN:VCALENDAR
VERSION:2.0
PRODID:-//Obstetrics &amp; Gynecology//NONSGML Events//EN
CALSCALE:GREGORIAN
X-ORIGINAL-URL:https://obgyn.wustl.edu/events/
X-WR-CALDESC:Obstetrics &amp; Gynecology - Events
BEGIN:VEVENT
UID:20210614T1457Z-1623682631.7779-EO-10318-1@172.23.128.18
STATUS:CONFIRMED
DTSTAMP:20260417T233343Z
CREATED:20221215T194447Z
LAST-MODIFIED:20221215T194447Z
DTSTART;TZID=America/Chicago:20210614T190000
DTEND;TZID=America/Chicago:20210614T200000
SUMMARY: Juneteenth Black Excellence Showcase (Save the Date)
DESCRIPTION: This event is hosted by the Academy for Diversity\, Equity and
  Inclusion and the Center for Diversity and Inclusion. The Academy for Dive
 rsity\, Equity and Inclusion and Center for Diversity and Inclusion are loo
 king for Black creatives\, academics\, business professionals and entrepren
 eurs for a showcase on June 17 at 7:00 PM. Registration and other details [
 …]
X-ALT-DESC;FMTTYPE=text/html: <p>This event is hosted by the Academy for Di
 versity\, Equity and Inclusion and the Center for Diversity and Inclusion.<
 /p><p>The Academy for Diversity\, Equity and Inclusion and Center for Diver
 sity and Inclusion are looking for Black creatives\, academics\, business p
 rofessionals and entrepreneurs for a showcase on June 17 at 7:00 PM.</p><p>
 Registration and other details are coming soon and may be found on the Cent
 er for Diversity Inclusion (CDI) <a href="https://students.wustl.edu/cdi-tr
 aining-education/">site.</a></p><p> </p>
LOCATION:Zoom (Virtual)
GEO:38.635102;-90.262792
ORGANIZER;CN="Marcy":MAILTO:marcylivingston@wustl.edu
URL;VALUE=URI:https://obgyn.wustl.edu/events/event/juneteenth-black-excelle
 nce-showcase-save-the-date/
END:VEVENT
BEGIN:VTIMEZONE
TZID:America/Chicago
BEGIN:DAYLIGHT
TZOFFSETFROM:-0600
TZOFFSETTO:-0500
DTSTART:20210314T080000
TZNAME:CDT
END:DAYLIGHT
END:VTIMEZONE
END:VCALENDAR
