BEGIN:VCALENDAR
VERSION:2.0
PRODID:-//Obstetrics &amp; Gynecology//NONSGML Events//EN
CALSCALE:GREGORIAN
X-ORIGINAL-URL:https://obgyn.wustl.edu/events/
X-WR-CALDESC:Obstetrics &amp; Gynecology - Events
BEGIN:VEVENT
UID:20170906T1848Z-1504723713.1542-EO-4385-1@172.20.65.30
STATUS:CONFIRMED
DTSTAMP:20260420T120545Z
CREATED:20170905T223531Z
LAST-MODIFIED:20171129T213615Z
DTSTART;TZID=America/Chicago:20171208T090000
DTEND;TZID=America/Chicago:20171208T100000
SUMMARY: CRepHS Seminar: Liang Ma\, PhD
DESCRIPTION: Liang Ma\, PhD Associate Professor of Dermatology Department o
 f Internal Medicine Washington University in St. Louis Title: “Embryo Impla
 ntation and Uterine Decidualization in Pregnancy” Host/Lab: Santi View more
  information on Dr. Ma’s research »
X-ALT-DESC;FMTTYPE=text/html: <p><span style="color: #800000\;"><strong>Lia
 ng Ma\, PhD</strong></span><br />Associate Professor of Dermatology<br />De
 partment of Internal Medicine<br />Washington University in St. Louis</p><p
 ><strong>Title: "Embryo Implantation and Uterine Decidualization in Pregnan
 cy"</strong></p><p>Host/Lab: Santi</p><p><a href="http://dermatology.wustl.
 edu/content/ma.html">View more information on Dr. Ma's research »</a></p>
CATEGORIES:CRepHS Basic Science Seminars
LOCATION:BJCIH Conference Room 10AB
GEO:38.636692;-90.263454
ORGANIZER;CN="Magdalena":MAILTO:mdnelson@wustl.edu
URL;VALUE=URI:https://obgyn.wustl.edu/events/event/liang-ma-phd/
END:VEVENT
BEGIN:VTIMEZONE
TZID:America/Chicago
BEGIN:STANDARD
TZOFFSETFROM:-0500
TZOFFSETTO:-0600
DTSTART:20171105T070000
TZNAME:CST
END:STANDARD
END:VTIMEZONE
END:VCALENDAR
