BEGIN:VCALENDAR
VERSION:2.0
PRODID:-//Obstetrics &amp; Gynecology//NONSGML Events//EN
CALSCALE:GREGORIAN
X-ORIGINAL-URL:https://obgyn.wustl.edu/events/
X-WR-CALDESC:Obstetrics &amp; Gynecology - Events
BEGIN:VEVENT
UID:20170331T1715Z-1490980545.409-EO-2335-1@172.21.70.58
STATUS:CONFIRMED
DTSTAMP:20260420T165626Z
CREATED:20160815T225627Z
LAST-MODIFIED:20170406T154423Z
DTSTART;TZID=America/Chicago:20161118T090000
DTEND;TZID=America/Chicago:20161118T100000
SUMMARY: Mary Dinauer\, MD\, PhD
DESCRIPTION: Mary Dinauer\, MD\, PhD Fred M. Saigh Distinguished Chair in P
 ediatric Research Professor\, Department of Pediatrics Professor\, Patholog
 y & Immunology Scientific Director\, Children’s Discovery Institute Washing
 ton University School of Medicine “More Than A License To Kill: Role Of Leu
 kocyte Respiratory Burst In Inflammation And Autoimmunity” Host/Lab: Mysore
 kar
X-ALT-DESC;FMTTYPE=text/html: <p><a href="http://research.peds.wustl.edu/fa
 culty/dinauer_m" target="_blank">Mary Dinauer\, MD\, PhD<br /></a>Fred M. S
 aigh Distinguished Chair in Pediatric Research<br />Professor\, Department 
 of Pediatrics<br />Professor\, Pathology & Immunology<br />Scientific Direc
 tor\, Children's Discovery Institute<br />Washington University School of M
 edicine</p><p><a href="https://obgyn.wustl.edu/app/uploads/2016/10/2016_Din
 auer_Lecture.pdf" target="_blank"><strong>“More Than A License To Kill: Rol
 e Of Leukocyte Respiratory Burst In Inflammation And Autoimmunity” </strong
 ></a></p><p>Host/Lab: Mysorekar</p>
CATEGORIES:CRepHS Basic Science Seminars
LOCATION:BJCIH Conference Room 10AB
GEO:38.636692;-90.263454
ORGANIZER;CN="Catherine":MAILTO:cbetz@wustl.edu
URL;VALUE=URI:https://obgyn.wustl.edu/events/event/mary-dinauer-md-phd/
END:VEVENT
BEGIN:VTIMEZONE
TZID:America/Chicago
BEGIN:STANDARD
TZOFFSETFROM:-0500
TZOFFSETTO:-0600
DTSTART:20161106T070000
TZNAME:CST
END:STANDARD
END:VTIMEZONE
END:VCALENDAR
