BEGIN:VCALENDAR
VERSION:2.0
PRODID:-//Obstetrics &amp; Gynecology//NONSGML Events//EN
CALSCALE:GREGORIAN
X-ORIGINAL-URL:https://obgyn.wustl.edu/events/
X-WR-CALDESC:Obstetrics &amp; Gynecology - Events
BEGIN:VEVENT
UID:20221012T1658Z-1665593930.0493-EO-20533-1@172.23.128.19
STATUS:CONFIRMED
DTSTAMP:20260423T024304Z
CREATED:20221012T165710Z
LAST-MODIFIED:20250311T162721Z
DTSTART;TZID=America/Chicago:20230104T183000
DTEND;TZID=America/Chicago:20230104T203000
SUMMARY: Movie Night: Sponsored by the Resident Committee
DESCRIPTION: RSVP HERE What: Watching “City of Joy“ When: January 4th\, 202
 3 Where: COH 10204 RSVP HERE
X-ALT-DESC;FMTTYPE=text/html: <p style="text-align: center\;"><strong><a hr
 ef="https://forms.office.com/Pages/ResponsePage.aspx?id=taPMTM1xbU6XS02b65b
 G1ixH97qWyR1Hu4Y9Z1K1af5UMFpUT1dVME9SNUxTTk5YUjdKNTk4Mks0Sy4u">RSVP HERE</a
 ></strong></p><p><strong>What: </strong>Watching "<a href="https://www.imdb
 .com/title/tt4078252/">City of Joy</a>"<strong><br />When</strong>: January
  4th\, 2023<br /><strong>Where</strong>: COH 10204</p><p style="text-align:
  center\;"><strong><a href="https://forms.office.com/Pages/ResponsePage.asp
 x?id=taPMTM1xbU6XS02b65bG1ixH97qWyR1Hu4Y9Z1K1af5UMFpUT1dVME9SNUxTTk5YUjdKNT
 k4Mks0Sy4u">RSVP HERE</a></strong></p>
CATEGORIES:IDEA2,Residency 2
ORGANIZER;CN="Marcy":MAILTO:marcylivingston@wustl.edu
URL;VALUE=URI:https://obgyn.wustl.edu/events/event/movie-night/
END:VEVENT
BEGIN:VTIMEZONE
TZID:America/Chicago
BEGIN:STANDARD
TZOFFSETFROM:-0500
TZOFFSETTO:-0600
DTSTART:20221106T070000
TZNAME:CST
END:STANDARD
END:VTIMEZONE
END:VCALENDAR
