BEGIN:VCALENDAR
VERSION:2.0
PRODID:-//Obstetrics &amp; Gynecology//NONSGML Events//EN
CALSCALE:GREGORIAN
X-ORIGINAL-URL:https://obgyn.wustl.edu/events/
X-WR-CALDESC:Obstetrics &amp; Gynecology - Events
BEGIN:VEVENT
UID:20191205T1655Z-1575564944.8719-EO-9973-1@172.23.128.18
STATUS:CONFIRMED
DTSTAMP:20260417T233240Z
CREATED:20191205T165418Z
LAST-MODIFIED:20191205T165418Z
DTSTART;VALUE=DATE:20191225
DTEND;VALUE=DATE:20191226
SUMMARY: No Grand Rounds
X-ALT-DESC;FMTTYPE=text/html: 
CATEGORIES:Grand Rounds
ORGANIZER;CN="Marcy":MAILTO:marcylivingston@wustl.edu
URL;VALUE=URI:https://obgyn.wustl.edu/events/event/no-grand-rounds/
END:VEVENT
BEGIN:VTIMEZONE
TZID:America/Chicago
BEGIN:STANDARD
TZOFFSETFROM:-0500
TZOFFSETTO:-0600
DTSTART:20191103T070000
TZNAME:CST
END:STANDARD
END:VTIMEZONE
END:VCALENDAR
