BEGIN:VCALENDAR
VERSION:2.0
PRODID:-//Obstetrics &amp; Gynecology//NONSGML Events//EN
CALSCALE:GREGORIAN
X-ORIGINAL-URL:https://obgyn.wustl.edu/events/
X-WR-CALDESC:Obstetrics &amp; Gynecology - Events
BEGIN:VEVENT
UID:20240801T0023Z-1722471806.5434-EO-32129-1@10.24.106.144
STATUS:CONFIRMED
DTSTAMP:20260424T200203Z
CREATED:20240731T205941Z
LAST-MODIFIED:20240731T205941Z
DTSTART;TZID=America/Chicago:20250108T091500
DTEND;TZID=America/Chicago:20250108T100000
SUMMARY: NO PDS: FACULTY MEETING
DESCRIPTION: NO PDS: FACULTY MEETING
X-ALT-DESC;FMTTYPE=text/html: <p>NO PDS: FACULTY MEETING</p>
CATEGORIES:Professional Development Series
ORGANIZER;CN="Allison":MAILTO:a.wyrsch@wustl.edu
URL;VALUE=URI:https://obgyn.wustl.edu/events/event/no-pds-faculty-meeting-1
 2/
END:VEVENT
BEGIN:VTIMEZONE
TZID:America/Chicago
BEGIN:STANDARD
TZOFFSETFROM:-0500
TZOFFSETTO:-0600
DTSTART:20241103T070000
TZNAME:CST
END:STANDARD
END:VTIMEZONE
END:VCALENDAR
