BEGIN:VCALENDAR
VERSION:2.0
PRODID:-//Obstetrics &amp; Gynecology//NONSGML Events//EN
CALSCALE:GREGORIAN
X-ORIGINAL-URL:https://obgyn.wustl.edu/events/
X-WR-CALDESC:Obstetrics &amp; Gynecology - Events
BEGIN:VEVENT
UID:20240801T1400Z-1722520846.3736-EO-32148-1@10.24.106.144
STATUS:CONFIRMED
DTSTAMP:20260421T142654Z
CREATED:20240801T131827Z
LAST-MODIFIED:20240801T131827Z
DTSTART;TZID=America/Chicago:20250305T091500
DTEND;TZID=America/Chicago:20250305T100000
SUMMARY: NO PDS: FACULTY MEETING
X-ALT-DESC;FMTTYPE=text/html: 
CATEGORIES:Professional Development Series
ORGANIZER;CN="Allison":MAILTO:a.wyrsch@wustl.edu
URL;VALUE=URI:https://obgyn.wustl.edu/events/event/no-pds-faculty-meeting-1
 3/
END:VEVENT
BEGIN:VTIMEZONE
TZID:America/Chicago
BEGIN:STANDARD
TZOFFSETFROM:-0500
TZOFFSETTO:-0600
DTSTART:20241103T070000
TZNAME:CST
END:STANDARD
END:VTIMEZONE
END:VCALENDAR
