BEGIN:VCALENDAR
VERSION:2.0
PRODID:-//Obstetrics &amp; Gynecology//NONSGML Events//EN
CALSCALE:GREGORIAN
X-ORIGINAL-URL:https://obgyn.wustl.edu/events/
X-WR-CALDESC:Obstetrics &amp; Gynecology - Events
BEGIN:VEVENT
UID:20231127T1526Z-1701098792.8407-EO-30466-1@172.23.128.18
STATUS:CONFIRMED
DTSTAMP:20260423T201845Z
CREATED:20231127T151735Z
LAST-MODIFIED:20231127T151735Z
DTSTART;TZID=America/Chicago:20240306T091500
DTEND;TZID=America/Chicago:20240306T100000
SUMMARY: NO PDS: Faculty Meeting
X-ALT-DESC;FMTTYPE=text/html: 
CATEGORIES:Professional Development Series
ORGANIZER;CN="Allison":MAILTO:a.wyrsch@wustl.edu
URL;VALUE=URI:https://obgyn.wustl.edu/events/event/no-pds-faculty-meeting-9
 /
END:VEVENT
BEGIN:VTIMEZONE
TZID:America/Chicago
BEGIN:STANDARD
TZOFFSETFROM:-0500
TZOFFSETTO:-0600
DTSTART:20231105T070000
TZNAME:CST
END:STANDARD
END:VTIMEZONE
END:VCALENDAR
