BEGIN:VCALENDAR
VERSION:2.0
PRODID:-//Obstetrics &amp; Gynecology//NONSGML Events//EN
CALSCALE:GREGORIAN
X-ORIGINAL-URL:https://obgyn.wustl.edu/events/
X-WR-CALDESC:Obstetrics &amp; Gynecology - Events
BEGIN:VEVENT
UID:20221026T1901Z-1666810864.9436-EO-21284-1@172.23.128.19
STATUS:CONFIRMED
DTSTAMP:20260417T233437Z
CREATED:20221026T185730Z
LAST-MODIFIED:20221216T174345Z
DTSTART;TZID=America/Chicago:20221221T080000
DTEND;TZID=America/Chicago:20221221T100000
SUMMARY: No Grand Rounds or PDS: Holiday
X-ALT-DESC;FMTTYPE=text/html: 
CATEGORIES:Grand Rounds,Professional Development Series
ORGANIZER;CN="Allison":MAILTO:a.wyrsch@wustl.edu
URL;VALUE=URI:https://obgyn.wustl.edu/events/event/no-pds-holiday/
END:VEVENT
BEGIN:VTIMEZONE
TZID:America/Chicago
BEGIN:STANDARD
TZOFFSETFROM:-0500
TZOFFSETTO:-0600
DTSTART:20221106T070000
TZNAME:CST
END:STANDARD
END:VTIMEZONE
END:VCALENDAR
