BEGIN:VCALENDAR
VERSION:2.0
PRODID:-//Obstetrics &amp; Gynecology//NONSGML Events//EN
CALSCALE:GREGORIAN
X-ORIGINAL-URL:https://obgyn.wustl.edu/events/
X-WR-CALDESC:Obstetrics &amp; Gynecology - Events
BEGIN:VEVENT
UID:20170414T1526Z-1492183614.401-EO-3817-1@172.21.70.58
STATUS:CONFIRMED
DTSTAMP:20260423T221927Z
CREATED:20170412T162658Z
LAST-MODIFIED:20170416T141508Z
DTSTART;TZID=America/Chicago:20170405T070000
DTEND;TZID=America/Chicago:20170405T080000
SUMMARY: OBGYN Grand Rounds: M&M
DESCRIPTION: Educational Objectives: From the previous month of clinical co
 mplication case reviews\, 1 Obstetrical and 1 Gynecological case will be se
 lected and presented.  A brief literature review will cover an aspect of th
 e complication.  A respective sub-specialist will moderate and discuss each
  case presentation. Location and webcast information Washington University 
 Medical Campus Attend grand rounds in […]
X-ALT-DESC;FMTTYPE=text/html: <p>Educational Objectives: From the previous 
 month of clinical complication case reviews\, 1 Obstetrical and 1 Gynecolog
 ical case will be selected and presented.  A brief literature review will c
 over an aspect of the complication.  A respective sub-specialist will moder
 ate and discuss each case presentation.</p><h2>Location and webcast informa
 tion</h2><h3>Washington University Medical Campus</h3><p>Attend grand round
 s in<strong> Clopton Auditorium</strong> (ground floor / <strong>lower leve
 l of Wohl Clinic</strong>).<strong><br /></strong><a href="https://medicine
 .wustl.edu/maps/">See campus map »</a></p><h3>Missouri Baptist Medical Cent
 er</h3><p>Watch the simulcast in the <strong>MoBap Medical Library</strong>
 .<br /><a href="https://www.google.com/maps/place/3015+N+Ballas+Rd\,+St.+Lo
 uis\,+MO+63131/@38.6362225\,-90.448714\,17z/data=!3m1!4b1!4m5!3m4!1s0x87d8c
 d592d7b5151:0x21cb345bd72c17d7!8m2!3d38.6362225!4d-90.44652">3015 N. Ballas
  Road\, St. Louis\, MO 63131</a></p><h3>Online (not eligible for CME credit
 )</h3><p>Watch the webcast via Adobe Connect (Flash required).<br /><a href
 ="https://wustl.adobeconnect.com/obgyn2017/">Access web conference »</a></p
 ><p>For additional information\, please contact Patti Sasse in the Departme
 nt of Obstetrics and Gynecology at 314-362-1016 or <a href="mailto:sassep@w
 udosis.wustl.edu">sassep@wudosis.wustl.edu</a>.</p><div class="disclaimer">
 <p>Washington University is accredited by the Accreditation Council for Con
 tinuing Medical Education to sponsor continuing medical education for physi
 cians. Washington University designates each continuing medical education a
 ctivity for 1 credit hour in category 1 of the Physician’s Recognition Awar
 d of the AMA. Physicians should claim only those hours of credit that they 
 actually spent in the educational activity. To learn more\, <a href="https:
 //wustlcme.highmarksce.com/">visit the Continuing Medical Education program
  website</a>.</p></div><p> </p>
CATEGORIES:Grand Rounds
LOCATION:Wohl Clinic - Clopton Auditorium (ground floor)
GEO:38.636995;-90.264349
ORGANIZER;CN="Marcy":MAILTO:marcylivingston@wustl.edu
URL;VALUE=URI:https://obgyn.wustl.edu/events/event/obgyn-grand-rounds-mm/
END:VEVENT
BEGIN:VTIMEZONE
TZID:America/Chicago
BEGIN:DAYLIGHT
TZOFFSETFROM:-0600
TZOFFSETTO:-0500
DTSTART:20170312T080000
TZNAME:CDT
END:DAYLIGHT
END:VTIMEZONE
END:VCALENDAR
