BEGIN:VCALENDAR
VERSION:2.0
PRODID:-//Obstetrics &amp; Gynecology//NONSGML Events//EN
CALSCALE:GREGORIAN
X-ORIGINAL-URL:https://obgyn.wustl.edu/events/
X-WR-CALDESC:Obstetrics &amp; Gynecology - Events
BEGIN:VEVENT
UID:20250714T1631Z-1752510694.0455-EO-34049-1@10.73.7.203
STATUS:CONFIRMED
DTSTAMP:20260424T200126Z
CREATED:20250714T162337Z
LAST-MODIFIED:20250714T162337Z
DTSTART;TZID=America/Chicago:20250813T180000
DTEND;TZID=America/Chicago:20250813T193000
SUMMARY: OBGYN Residency Virtual Open House 2025
DESCRIPTION: Register Here Wednesday\, August 13\, 2025 6:00 pm -7:30 pm CS
 T Registration closes at NOON CST on August 13th. A calendar invite with Zo
 om login information will be sent to you by 2:00 pm on the 13th. If you hav
 e any questions or need assistance\, please contact Carrie Frank\, Program 
 Coordinator\, at 314-362-1016 or cfrank@wustl.edu.
X-ALT-DESC;FMTTYPE=text/html: <p><a href="https://forms.office.com/Pages/Re
 sponsePage.aspx?id=taPMTM1xbU6XS02b65bG1pCjpucmNtpFhl3ffq_QBPVUNjVCMVlXOUxB
 U0ZIT0pUSTU1QUNIR0U1Qi4u">Register Here</a></p><div><b>Wednesday\, August 1
 3\, 2025</b></div><p><b>6:00 pm -7:30 pm CST</b></p><p>Registration closes 
 at <b><u>NOON CST on August 13th</u></b>. A calendar invite with Zoom login
  information will be sent to you by 2:00 pm on the 13th.</p><p>If you have 
 any questions or need assistance\, please contact Carrie Frank\, Program Co
 ordinator\, at 314-362-1016 or cfrank@wustl.edu.</p>
CATEGORIES:Residency,Residency 2
ORGANIZER;CN="Marcy":MAILTO:marcylivingston@wustl.edu
URL;VALUE=URI:https://obgyn.wustl.edu/events/event/obgyn-residency-virtual-
 open-house-2025/
END:VEVENT
BEGIN:VTIMEZONE
TZID:America/Chicago
BEGIN:DAYLIGHT
TZOFFSETFROM:-0600
TZOFFSETTO:-0500
DTSTART:20250309T080000
TZNAME:CDT
END:DAYLIGHT
END:VTIMEZONE
END:VCALENDAR
