BEGIN:VCALENDAR
VERSION:2.0
PRODID:-//Obstetrics &amp; Gynecology//NONSGML Events//EN
CALSCALE:GREGORIAN
X-ORIGINAL-URL:https://obgyn.wustl.edu/events/
X-WR-CALDESC:Obstetrics &amp; Gynecology - Events
BEGIN:VEVENT
UID:20180425T1541Z-1524670863.6909-EO-6057-1@172.20.65.30
STATUS:CONFIRMED
DTSTAMP:20260417T233218Z
CREATED:20180425T151731Z
LAST-MODIFIED:20180425T151731Z
DTSTART;VALUE=DATE:20181113
DTEND;VALUE=DATE:20181116
SUMMARY: Oncofertility Conference
DESCRIPTION: Chicago\, IL
X-ALT-DESC;FMTTYPE=text/html: 
CATEGORIES:Annual Events
ORGANIZER;CN="Marcy":MAILTO:marcylivingston@wustl.edu
URL;VALUE=URI:https://obgyn.wustl.edu/events/event/oncofertility-conference
 /
END:VEVENT
BEGIN:VTIMEZONE
TZID:America/Chicago
BEGIN:STANDARD
TZOFFSETFROM:-0500
TZOFFSETTO:-0600
DTSTART:20181104T070000
TZNAME:CST
END:STANDARD
END:VTIMEZONE
END:VCALENDAR
