BEGIN:VCALENDAR
VERSION:2.0
PRODID:-//Obstetrics &amp; Gynecology//NONSGML Events//EN
CALSCALE:GREGORIAN
X-ORIGINAL-URL:https://obgyn.wustl.edu/events/
X-WR-CALDESC:Obstetrics &amp; Gynecology - Events
BEGIN:VEVENT
UID:20230831T1430Z-1693492252.1073-EO-29903-1@172.23.128.18
STATUS:CONFIRMED
DTSTAMP:20260421T104831Z
CREATED:20230831T142320Z
LAST-MODIFIED:20230831T145852Z
DTSTART;TZID=America/Chicago:20231004T091500
DTEND;TZID=America/Chicago:20231004T100000
SUMMARY: PDS: Longitudinal Curriculum
DESCRIPTION: Professional Development Series Official Title: TBD Speaker: T
 BD – Email Carol Hopfinger for more informationThe session will be recorded
  and available here.  
X-ALT-DESC;FMTTYPE=text/html: <h5>Professional Development Series</h5><p>Of
 ficial Title: TBD</p><p>Speaker: TBD</p><p>-</p><p>Email <a href="mailto:ca
 rolh@wustl.edu">Carol Hopfinger</a> for more information<br aria-hidden="tr
 ue" />The session will be recorded and available <a title="Original URL: ht
 tps://wustl.app.box.com/folder/128423199371. Click or tap if you trust this
  link." href="https://nam10.safelinks.protection.outlook.com/?url=https%3A%
 2F%2Fwustl.app.box.com%2Ffolder%2F128423199371&data=05%7C01%7Ca.wyrsch%40wu
 stl.edu%7C1085a13a0acb47f915d208dae8f15389%7C4ccca3b571cd4e6d974b4d9beb96c6
 d6%7C0%7C0%7C638078420422116994%7CUnknown%7CTWFpbGZsb3d8eyJWIjoiMC4wLjAwMDA
 iLCJQIjoiV2luMzIiLCJBTiI6Ik1haWwiLCJXVCI6Mn0%3D%7C3000%7C%7C%7C&sdata=EByvG
 KqIRNa88vnaHXeOoa%2Bz1v%2Fyf01HgQ69qqsjlKE%3D&reserved=0" target="_blank" r
 el="noopener noreferrer" data-auth="Verified" data-linkindex="1">here</a>.<
 /p><p> </p>
CATEGORIES:Professional Development Series
ORGANIZER;CN="Allison":MAILTO:a.wyrsch@wustl.edu
URL;VALUE=URI:https://obgyn.wustl.edu/events/event/pds-longitudinal-curricu
 lum/
END:VEVENT
BEGIN:VTIMEZONE
TZID:America/Chicago
BEGIN:DAYLIGHT
TZOFFSETFROM:-0600
TZOFFSETTO:-0500
DTSTART:20230312T080000
TZNAME:CDT
END:DAYLIGHT
END:VTIMEZONE
END:VCALENDAR
