BEGIN:VCALENDAR
VERSION:2.0
PRODID:-//Obstetrics &amp; Gynecology//NONSGML Events//EN
CALSCALE:GREGORIAN
X-ORIGINAL-URL:https://obgyn.wustl.edu/events/
X-WR-CALDESC:Obstetrics &amp; Gynecology - Events
BEGIN:VEVENT
UID:20231127T1554Z-1701100458.9044-EO-30495-1@172.23.128.18
STATUS:CONFIRMED
DTSTAMP:20260421T123520Z
CREATED:20231127T154147Z
LAST-MODIFIED:20231127T154147Z
DTSTART;TZID=America/Chicago:20240515T091500
DTEND;TZID=America/Chicago:20240515T100000
SUMMARY: PDS: OB/GYN Department Quality Data Reporting
DESCRIPTION: Topic: OB/GYN Department Quality Data Reporting Speaker: Nicol
 e Short
X-ALT-DESC;FMTTYPE=text/html: <p><strong>Topic</strong>: OB/GYN Department 
 Quality Data Reporting</p><p><strong>Speaker</strong>: Nicole Short</p>
CATEGORIES:Professional Development Series
ORGANIZER;CN="Allison":MAILTO:a.wyrsch@wustl.edu
URL;VALUE=URI:https://obgyn.wustl.edu/events/event/pds-ob-gyn-department-qu
 ality-data-reporting-2/
END:VEVENT
BEGIN:VTIMEZONE
TZID:America/Chicago
BEGIN:DAYLIGHT
TZOFFSETFROM:-0600
TZOFFSETTO:-0500
DTSTART:20240310T080000
TZNAME:CDT
END:DAYLIGHT
END:VTIMEZONE
END:VCALENDAR
