BEGIN:VCALENDAR
VERSION:2.0
PRODID:-//Obstetrics &amp; Gynecology//NONSGML Events//EN
CALSCALE:GREGORIAN
X-ORIGINAL-URL:https://obgyn.wustl.edu/events/
X-WR-CALDESC:Obstetrics &amp; Gynecology - Events
BEGIN:VEVENT
UID:20240905T1523Z-1725549801.2255-EO-32471-1@10.24.106.144
STATUS:CONFIRMED
DTSTAMP:20260423T162654Z
CREATED:20240905T150439Z
LAST-MODIFIED:20240905T150439Z
DTSTART;VALUE=DATE:20240921
DTEND;VALUE=DATE:20240923
SUMMARY: Pedal The Cause 2024
DESCRIPTION: Pedal the Cause – Sept 21 & 22 Team Gyn Onc Teal on Wheels We 
 have lots of options to ride (multiple road options from 10 to 100 miles\, 
 and spinning)\, volunteer\, or donate. Would love to see as many people out
  as possible! Shout out to our early registrants from our department: Debbi
 e Frank\, Lindsay Kuroki\, […]
X-ALT-DESC;FMTTYPE=text/html: <p>Pedal the Cause - Sept 21 & 22</p><p>Team 
 Gyn Onc Teal on Wheels</p><p>We have lots of options to ride (multiple road
  options from 10 to 100 miles\, and spinning)\, volunteer\, or donate. Woul
 d love to see as many people out as possible!</p><p>Shout out to our early 
 registrants from our department: Debbie Frank\, Lindsay Kuroki\, Veronica D
 ave\, Maggie Mullen\, Brooke Sanders\, Premal Thaker\, and Denise Willers.<
 /p><p>We've got room for more!</p><p><a class="x_button_link" title="Origin
 al URL: https://mg4m7jbbb.cc.rs6.net/tn.jsp?f=001ufDosEW9RWq2pVOxZ8_a1kxIxa
 D0uhvcz-SShOBewWoBJ2RoyvucoSQAJKkUUceamLpZ1ua7ME9AGhS-WsDVC2yQaLKGFDSVtG3bq
 DbhUuI-04f9NPAKPWDsHuhaSNKri_5UtAKBoihFFyV8a4WvWaLb8ZIiOtTql96Fm2NyKyRYK056
 QZrk9SPPpGxbvFuZvBROw8mCNugbQCp3NluXPA==&c=pJZO1O5_FgQuIcFjlYajFtFwFjEQppVO
 EK_EQfwUyJkyTaw47Q10rA==&ch=rB7LBhIE3QvZI-b9ruK7tGrPn0oJ3pQI7da6XBokJThqSTk
 QQ04f6A==. Click or tap if you trust this link." href="https://www.givesign
 up.org/Race/157721/Donate/YAfK1d7L1IHstTC0" target="_blank" rel="noopener n
 oreferrer" data-trackable="true" data-auth="Verified" data-linkindex="5">Vo
 lunteer or Donate!</a></p><p>Reach out to <a href="mailto:hagemanna@wustl.e
 du" data-linkindex="6">Andrea Hagemann</a> with questions</p>
CATEGORIES:Community Events
ORGANIZER;CN="Marcy":MAILTO:marcylivingston@wustl.edu
URL;VALUE=URI:https://obgyn.wustl.edu/events/event/pedal-the-cause-2024/
END:VEVENT
BEGIN:VTIMEZONE
TZID:America/Chicago
BEGIN:DAYLIGHT
TZOFFSETFROM:-0600
TZOFFSETTO:-0500
DTSTART:20240310T080000
TZNAME:CDT
END:DAYLIGHT
END:VTIMEZONE
END:VCALENDAR
