BEGIN:VCALENDAR
VERSION:2.0
PRODID:-//Obstetrics &amp; Gynecology//NONSGML Events//EN
CALSCALE:GREGORIAN
X-ORIGINAL-URL:https://obgyn.wustl.edu/events/
X-WR-CALDESC:Obstetrics &amp; Gynecology - Events
BEGIN:VEVENT
UID:20230828T1925Z-1693250751.9725-EO-29869-1@172.23.128.18
STATUS:CONFIRMED
DTSTAMP:20260417T233601Z
CREATED:20230828T191540Z
LAST-MODIFIED:20250311T162948Z
DTSTART;TZID=America/Chicago:20230905T183000
DTEND;TZID=America/Chicago:20230905T200000
SUMMARY: Podcast “To Do No Harm”
DESCRIPTION: DEIA EVENT When: Tuesday\, September 5th\, 2023 Where: COH 102
 04 What: Podcast “To Do No Harm” discussion & dinner Who: Resident Committe
 e RSVP HERE  
X-ALT-DESC;FMTTYPE=text/html: <p><span style="text-decoration: underline\;"
 ><strong>DEIA EVENT</strong></span></p><p><strong>When</strong>: Tuesday\, 
 September 5th\, 2023</p><p><strong>Where</strong>: COH 10204</p><p><strong>
 What</strong>: Podcast "To Do No Harm" discussion & dinner</p><p><strong>Wh
 o</strong>: Resident Committee</p><p><a href="https://forms.office.com/Page
 s/ResponsePage.aspx?id=taPMTM1xbU6XS02b65bG1qPxwnKyBvZDgQhnd-H9GS1UN1MwQTYz
 WENVMEFLUkVSMThYUVEwTlNDNy4u"><span style="text-decoration: underline\;"><s
 trong>RSVP HERE</strong></span></a></p><p> </p>
CATEGORIES:IDEA2,Residency 2
ORGANIZER;CN="Allison":MAILTO:a.wyrsch@wustl.edu
URL;VALUE=URI:https://obgyn.wustl.edu/events/event/podcast-to-do-no-harm/
END:VEVENT
BEGIN:VTIMEZONE
TZID:America/Chicago
BEGIN:DAYLIGHT
TZOFFSETFROM:-0600
TZOFFSETTO:-0500
DTSTART:20230312T080000
TZNAME:CDT
END:DAYLIGHT
END:VTIMEZONE
END:VCALENDAR
