BEGIN:VCALENDAR
VERSION:2.0
PRODID:-//Obstetrics &amp; Gynecology//NONSGML Events//EN
CALSCALE:GREGORIAN
X-ORIGINAL-URL:https://obgyn.wustl.edu/events/
X-WR-CALDESC:Obstetrics &amp; Gynecology - Events
BEGIN:VEVENT
UID:20240801T1400Z-1722520846.4101-EO-32156-1@10.24.106.144
STATUS:CONFIRMED
DTSTAMP:20260422T012036Z
CREATED:20240801T133321Z
LAST-MODIFIED:20240801T133321Z
DTSTART;TZID=America/Chicago:20250326T080000
DTEND;TZID=America/Chicago:20250326T090000
SUMMARY: Professional Development Series
DESCRIPTION: Topic: Speaker: Mary Lou Heinrich Location: Parkview Tower A *
 *A zoom link will be provided to community members and those with off-campu
 s clinical obligations.**
X-ALT-DESC;FMTTYPE=text/html: <p class="p1"><b>Topic</b>:</p><p class="p1">
 <b>Speaker</b>: Mary Lou Heinrich</p><p class="p1"><b>Location</b>: Parkvie
 w Tower A</p><p class="p1">**A zoom link will be provided to community memb
 ers and those with off-campus clinical obligations.**</p>
CATEGORIES:Professional Development Series
ORGANIZER;CN="Allison":MAILTO:a.wyrsch@wustl.edu
URL;VALUE=URI:https://obgyn.wustl.edu/events/event/professional-development
 -series-21/
END:VEVENT
BEGIN:VTIMEZONE
TZID:America/Chicago
BEGIN:DAYLIGHT
TZOFFSETFROM:-0600
TZOFFSETTO:-0500
DTSTART:20250309T080000
TZNAME:CDT
END:DAYLIGHT
END:VTIMEZONE
END:VCALENDAR
