BEGIN:VCALENDAR
VERSION:2.0
PRODID:-//Obstetrics &amp; Gynecology//NONSGML Events//EN
CALSCALE:GREGORIAN
X-ORIGINAL-URL:https://obgyn.wustl.edu/events/
X-WR-CALDESC:Obstetrics &amp; Gynecology - Events
BEGIN:VEVENT
UID:20221026T1715Z-1666804541.0184-EO-21239-1@172.23.128.19
STATUS:CONFIRMED
DTSTAMP:20260424T072704Z
CREATED:20221026T171512Z
LAST-MODIFIED:20221026T171512Z
DTSTART;TZID=America/Chicago:20221130T090000
DTEND;TZID=America/Chicago:20221130T100000
SUMMARY: Professional Development Series: Clinical Care Focus
DESCRIPTION: Doug Char\, MD –  Physician support with adverse events Patien
 t Safety\, Quality & Performance Improvement Faculty Practice Plan
X-ALT-DESC;FMTTYPE=text/html: <h5>Doug Char\, MD -  Physician support with 
 adverse events</h5><h5>Patient Safety\, Quality & Performance Improvement</
 h5><h5>Faculty Practice Plan</h5>
CATEGORIES:Professional Development Series
ORGANIZER;CN="Allison":MAILTO:a.wyrsch@wustl.edu
URL;VALUE=URI:https://obgyn.wustl.edu/events/event/professional-development
 -series-clinical-care-focus-3/
END:VEVENT
BEGIN:VTIMEZONE
TZID:America/Chicago
BEGIN:STANDARD
TZOFFSETFROM:-0500
TZOFFSETTO:-0600
DTSTART:20221106T070000
TZNAME:CST
END:STANDARD
END:VTIMEZONE
END:VCALENDAR
