BEGIN:VCALENDAR
VERSION:2.0
PRODID:-//Obstetrics &amp; Gynecology//NONSGML Events//EN
CALSCALE:GREGORIAN
X-ORIGINAL-URL:https://obgyn.wustl.edu/events/
X-WR-CALDESC:Obstetrics &amp; Gynecology - Events
BEGIN:VEVENT
UID:20221026T1728Z-1666805323.8744-EO-21251-1@172.23.128.19
STATUS:CONFIRMED
DTSTAMP:20260424T200206Z
CREATED:20221026T172201Z
LAST-MODIFIED:20230105T204815Z
DTSTART;TZID=America/Chicago:20230118T091000
DTEND;TZID=America/Chicago:20230118T100000
SUMMARY: PDS: CLAS Standards (Thompson & Rijos)
DESCRIPTION: Professional Development SeriesClinical Care Focus CLAS Standa
 rds Dr. Vetta Sanders Thompson & Poli Rijos Email Ken Zimmerman\, Jr for mo
 re informationSession will be recorded and available here
X-ALT-DESC;FMTTYPE=text/html: <h5>Professional Development Series<br aria-h
 idden="true" /><em>Clinical Care Focus</em></h5><h4>CLAS Standards</h4><p><
 strong>Dr. Vetta Sanders Thompson & Poli Rijos</strong></p><p>Email <a href
 ="mailto:kennethz@wustl.edu" target="_blank" rel="noopener noreferrer" data
 -auth="NotApplicable" data-safelink="true" data-linkindex="0">Ken Zimmerman
 \, Jr</a> for more information<br aria-hidden="true" />Session will be reco
 rded and available <a title="Original URL: https://wustl.app.box.com/folder
 /128423199371. Click or tap if you trust this link." href="https://nam10.sa
 felinks.protection.outlook.com/?url=https%3A%2F%2Fwustl.app.box.com%2Ffolde
 r%2F128423199371&data=05%7C01%7Ca.wyrsch%40wustl.edu%7C1085a13a0acb47f915d2
 08dae8f15389%7C4ccca3b571cd4e6d974b4d9beb96c6d6%7C0%7C0%7C63807842042211699
 4%7CUnknown%7CTWFpbGZsb3d8eyJWIjoiMC4wLjAwMDAiLCJQIjoiV2luMzIiLCJBTiI6Ik1ha
 WwiLCJXVCI6Mn0%3D%7C3000%7C%7C%7C&sdata=EByvGKqIRNa88vnaHXeOoa%2Bz1v%2Fyf01
 HgQ69qqsjlKE%3D&reserved=0" target="_blank" rel="noopener noreferrer" data-
 auth="Verified" data-linkindex="1">here</a></p>
CATEGORIES:Professional Development Series
ORGANIZER;CN="Allison":MAILTO:a.wyrsch@wustl.edu
URL;VALUE=URI:https://obgyn.wustl.edu/events/event/professional-development
 -series-clinical-care-focus-4/
END:VEVENT
BEGIN:VTIMEZONE
TZID:America/Chicago
BEGIN:STANDARD
TZOFFSETFROM:-0500
TZOFFSETTO:-0600
DTSTART:20221106T070000
TZNAME:CST
END:STANDARD
END:VTIMEZONE
END:VCALENDAR
