BEGIN:VCALENDAR
VERSION:2.0
PRODID:-//Obstetrics &amp; Gynecology//NONSGML Events//EN
CALSCALE:GREGORIAN
X-ORIGINAL-URL:https://obgyn.wustl.edu/events/
X-WR-CALDESC:Obstetrics &amp; Gynecology - Events
BEGIN:VEVENT
UID:20221026T1714Z-1666804478.0666-EO-21224-1@172.23.128.18
STATUS:CONFIRMED
DTSTAMP:20260424T200139Z
CREATED:20221026T170655Z
LAST-MODIFIED:20221026T170655Z
DTSTART;TZID=America/Chicago:20220928T090000
DTEND;TZID=America/Chicago:20220928T100000
SUMMARY: Professional Development Series: “Ethical Authorship in Research”
DESCRIPTION: Research Focus Dr. Gregory Storch “Ethical Authorship in Resea
 rch” Research Integrity Officer
X-ALT-DESC;FMTTYPE=text/html: <h3>Research Focus</h3><h4>Dr. Gregory Storch
 </h4><h5>“Ethical Authorship in Research”</h5><h5>Research Integrity Office
 r</h5>
CATEGORIES:Professional Development Series
ORGANIZER;CN="Allison":MAILTO:a.wyrsch@wustl.edu
URL;VALUE=URI:https://obgyn.wustl.edu/events/event/professional-development
 -series-ethical-authorship-in-research/
END:VEVENT
BEGIN:VTIMEZONE
TZID:America/Chicago
BEGIN:DAYLIGHT
TZOFFSETFROM:-0600
TZOFFSETTO:-0500
DTSTART:20220313T080000
TZNAME:CDT
END:DAYLIGHT
END:VTIMEZONE
END:VCALENDAR
