BEGIN:VCALENDAR
VERSION:2.0
PRODID:-//Obstetrics &amp; Gynecology//NONSGML Events//EN
CALSCALE:GREGORIAN
X-ORIGINAL-URL:https://obgyn.wustl.edu/events/
X-WR-CALDESC:Obstetrics &amp; Gynecology - Events
BEGIN:VEVENT
UID:20210105T2002Z-1609876962.2444-EO-11639-1@172.23.128.19
STATUS:CONFIRMED
DTSTAMP:20260420T124916Z
CREATED:20210105T195009Z
LAST-MODIFIED:20220218T164111Z
DTSTART;TZID=America/Chicago:20210106T090000
DTEND;TZID=America/Chicago:20210106T100000
RRULE:FREQ=MONTHLY;INTERVAL=1;BYDAY=1WE;UNTIL=20220504T140000Z
EXDATE;TZID=America/Chicago:20210602T090000,20210707T090000,20210804T090000
SUMMARY: Professional Development Series: Patient Safety Updates
DESCRIPTION: OBGYN ZOOM PDS Previously recorded PDS will be available HERE 
 for internal audiences who can log into BOX with their WUSTL KEY. No CME cr
 edit will be given for these sessions.
X-ALT-DESC;FMTTYPE=text/html: <p><a class="wusm-button" href="https://wustl
 -hipaa.zoom.us/j/97719049017" target="_blank" rel="noopener">OBGYN ZOOM PDS
 </a></p><p class="x_MsoNormal">Previously recorded PDS will be available <a
  href="https://wustl.box.com/s/6z55ac0xsvgfvkduevk70eexd124hc78"><strong>HE
 RE</strong></a> for internal audiences who can log into BOX with their WUST
 L KEY. No CME credit will be given for these sessions.</p><p class="x_MsoNo
 rmal">
CATEGORIES:Professional Development Series
ORGANIZER;CN="Marcy":MAILTO:marcylivingston@wustl.edu
URL;VALUE=URI:https://obgyn.wustl.edu/events/event/professional-development
 -sessions-patient-safety-updates/
END:VEVENT
BEGIN:VTIMEZONE
TZID:America/Chicago
BEGIN:STANDARD
TZOFFSETFROM:-0500
TZOFFSETTO:-0600
DTSTART:20201101T070000
TZNAME:CST
END:STANDARD
BEGIN:DAYLIGHT
TZOFFSETFROM:-0600
TZOFFSETTO:-0500
DTSTART:20210314T080000
TZNAME:CDT
END:DAYLIGHT
BEGIN:STANDARD
TZOFFSETFROM:-0500
TZOFFSETTO:-0600
DTSTART:20211107T070000
TZNAME:CST
END:STANDARD
BEGIN:DAYLIGHT
TZOFFSETFROM:-0600
TZOFFSETTO:-0500
DTSTART:20220313T080000
TZNAME:CDT
END:DAYLIGHT
END:VTIMEZONE
END:VCALENDAR
