BEGIN:VCALENDAR
VERSION:2.0
PRODID:-//Obstetrics &amp; Gynecology//NONSGML Events//EN
CALSCALE:GREGORIAN
X-ORIGINAL-URL:https://obgyn.wustl.edu/events/
X-WR-CALDESC:Obstetrics &amp; Gynecology - Events
BEGIN:VEVENT
UID:20170906T1848Z-1504723713.081-EO-4373-1@172.20.65.30
STATUS:CONFIRMED
DTSTAMP:20260420T165627Z
CREATED:20170905T220122Z
LAST-MODIFIED:20171023T205452Z
DTSTART;TZID=America/Chicago:20171020T090000
DTEND;TZID=America/Chicago:20171020T100000
SUMMARY: CRepHS Seminar: Quing Zhu\, PhD
DESCRIPTION: Quing Zhu\, PhD Professor Department of Biomedical Engineering
  Washington University in St. Louis Title: “Diagnosis of Ovarian Cancer Usi
 ng Dual-Modality Transvaginal Ultrasound and Photoacoustic Imaging and Othe
 r Optical Imaging Techniques” Host/Lab: Fuh View more information on Dr. Zh
 u’s research »
X-ALT-DESC;FMTTYPE=text/html: <p><span style="color: #800000\;"><strong>Qui
 ng Zhu\, PhD</strong></span><br />Professor<br />Department of Biomedical E
 ngineering<br />Washington University in St. Louis</p><p><strong>Title: <em
 >"Diagnosis of Ovarian Cancer Using Dual-Modality Transvaginal Ultrasound a
 nd Photoacoustic Imaging and Other Optical Imaging Techniques"</em></strong
 ></p><p>Host/Lab: Fuh</p><p><a href="https://sites.wustl.edu/opticalandltra
 soundimaginglab/home-2/research/">View more information on Dr. Zhu's resear
 ch »</a></p>
CATEGORIES:CRepHS Basic Science Seminars
LOCATION:BJCIH Conference Room 10AB
GEO:38.636692;-90.263454
ORGANIZER;CN="Magdalena":MAILTO:mdnelson@wustl.edu
URL;VALUE=URI:https://obgyn.wustl.edu/events/event/quing-zhu-phd/
END:VEVENT
BEGIN:VTIMEZONE
TZID:America/Chicago
BEGIN:DAYLIGHT
TZOFFSETFROM:-0600
TZOFFSETTO:-0500
DTSTART:20170312T080000
TZNAME:CDT
END:DAYLIGHT
END:VTIMEZONE
END:VCALENDAR
