BEGIN:VCALENDAR
VERSION:2.0
PRODID:-//Obstetrics &amp; Gynecology//NONSGML Events//EN
CALSCALE:GREGORIAN
X-ORIGINAL-URL:https://obgyn.wustl.edu/events/
X-WR-CALDESC:Obstetrics &amp; Gynecology - Events
BEGIN:VEVENT
UID:20170331T1715Z-1490980545.4347-EO-2340-1@172.21.70.58
STATUS:CONFIRMED
DTSTAMP:20260421T215525Z
CREATED:20160815T230029Z
LAST-MODIFIED:20170406T154424Z
DTSTART;TZID=America/Chicago:20170113T090000
DTEND;TZID=America/Chicago:20170113T100000
SUMMARY: Rama Kommagani\, PhD
DESCRIPTION: Rama Kommagani\, PhD Assistant Professor Washington University
  Department of Obstetrics & Gynecology Center for Reproductive Health Scien
 ces Title: “Mediators of Nuclear Receptor Signaling in Endometrium” Host/La
 b: Kommagani Visit the Kommagani lab website »
X-ALT-DESC;FMTTYPE=text/html: <p><a href="https://reproductivesciences.wust
 l.edu/people/ramakrishna-kommagani-phd/">Rama Kommagani\, PhD<br /></a>Assi
 stant Professor<br />Washington University<br />Department of Obstetrics & 
 Gynecology<br /><a href="https://reproductivesciences.wustl.edu/">Center fo
 r Reproductive Health Sciences</a></p><p>Title: <em><strong>"Mediators of N
 uclear Receptor Signaling in Endometrium"</strong></em></p><p>Host/Lab: Kom
 magani<br /><a href="https://reproductivesciences.wustl.edu/laboratories/ko
 mmagani-lab/">Visit the Kommagani lab website »</a></p>
CATEGORIES:CRepHS Basic Science Seminars
LOCATION:BJCIH Conference Room 10AB
GEO:38.636692;-90.263454
ORGANIZER;CN="Catherine":MAILTO:cbetz@wustl.edu
URL;VALUE=URI:https://obgyn.wustl.edu/events/event/rama-kommagani-phd/
END:VEVENT
BEGIN:VTIMEZONE
TZID:America/Chicago
BEGIN:STANDARD
TZOFFSETFROM:-0500
TZOFFSETTO:-0600
DTSTART:20161106T070000
TZNAME:CST
END:STANDARD
END:VTIMEZONE
END:VCALENDAR
