BEGIN:VCALENDAR
VERSION:2.0
PRODID:-//Obstetrics &amp; Gynecology//NONSGML Events//EN
CALSCALE:GREGORIAN
X-ORIGINAL-URL:https://obgyn.wustl.edu/events/
X-WR-CALDESC:Obstetrics &amp; Gynecology - Events
BEGIN:VEVENT
UID:20230208T1715Z-1675876542.8501-EO-27971-1@172.23.128.18
STATUS:CONFIRMED
DTSTAMP:20260421T195405Z
CREATED:20230208T171105Z
LAST-MODIFIED:20230518T194740Z
DTSTART;TZID=America/Chicago:20230618T183000
DTEND;TZID=America/Chicago:20230618T203000
SUMMARY: Resident Graduation 2023
X-ALT-DESC;FMTTYPE=text/html: 
CATEGORIES:Annual Events,Residency
ORGANIZER;CN="Marcy":MAILTO:marcylivingston@wustl.edu
URL;VALUE=URI:https://obgyn.wustl.edu/events/event/resident-graduation-2023
 /
END:VEVENT
BEGIN:VTIMEZONE
TZID:America/Chicago
BEGIN:DAYLIGHT
TZOFFSETFROM:-0600
TZOFFSETTO:-0500
DTSTART:20230312T080000
TZNAME:CDT
END:DAYLIGHT
END:VTIMEZONE
END:VCALENDAR
