BEGIN:VCALENDAR
VERSION:2.0
PRODID:-//Obstetrics &amp; Gynecology//NONSGML Events//EN
CALSCALE:GREGORIAN
X-ORIGINAL-URL:https://obgyn.wustl.edu/events/
X-WR-CALDESC:Obstetrics &amp; Gynecology - Events
BEGIN:VEVENT
UID:20231115T2014Z-1700079264.11-EO-30379-1@172.23.128.18
STATUS:CONFIRMED
DTSTAMP:20260421T154706Z
CREATED:20231115T200835Z
LAST-MODIFIED:20231115T200835Z
DTSTART;TZID=America/Chicago:20240315T080000
DTEND;TZID=America/Chicago:20240315T170000
SUMMARY: Resident Match Day
X-ALT-DESC;FMTTYPE=text/html: 
CATEGORIES:Residency
ORGANIZER;CN="Allison":MAILTO:a.wyrsch@wustl.edu
URL;VALUE=URI:https://obgyn.wustl.edu/events/event/resident-match-day/
END:VEVENT
BEGIN:VTIMEZONE
TZID:America/Chicago
BEGIN:DAYLIGHT
TZOFFSETFROM:-0600
TZOFFSETTO:-0500
DTSTART:20240310T080000
TZNAME:CDT
END:DAYLIGHT
END:VTIMEZONE
END:VCALENDAR
