BEGIN:VCALENDAR
VERSION:2.0
PRODID:-//Obstetrics &amp; Gynecology//NONSGML Events//EN
CALSCALE:GREGORIAN
X-ORIGINAL-URL:https://obgyn.wustl.edu/events/
X-WR-CALDESC:Obstetrics &amp; Gynecology - Events
BEGIN:VEVENT
UID:20220407T2112Z-1649365945.6706-EO-16085-1@172.23.128.18
STATUS:CONFIRMED
DTSTAMP:20260422T222331Z
CREATED:20220407T210913Z
LAST-MODIFIED:20220407T211423Z
DTSTART;TZID=America/Chicago:20220503T130000
DTEND;TZID=America/Chicago:20220503T170000
SUMMARY: Rothman Research Day 1
DESCRIPTION: Rothman Research Days May 3\, 2022 1:00 – 5:00 – Wohl Auditori
 um May 4\, 2022 8:00 – 12:00 – EPNEC Rothman Reception 5:00 – 7:00 – Peds L
 obby and Patio
X-ALT-DESC;FMTTYPE=text/html: <p class="x_x_MsoNormal">Rothman Research Day
 s</p><p class="x_x_MsoNormal">May 3\, 2022 1:00 – 5:00 – Wohl Auditorium</p
 ><p class="x_x_MsoNormal">May 4\, 2022 8:00 – 12:00 - EPNEC</p><p class="x_
 x_MsoNormal">Rothman Reception 5:00 - 7:00 - Peds Lobby and Patio</p>
CATEGORIES:Annual Events
LOCATION:Wohl Building - Wohl Auditorium (ground floor)
GEO:38.637234;-90.264590
ORGANIZER;CN="Marcy":MAILTO:marcylivingston@wustl.edu
URL;VALUE=URI:https://obgyn.wustl.edu/events/event/rothman-research-day-1/
END:VEVENT
BEGIN:VTIMEZONE
TZID:America/Chicago
BEGIN:DAYLIGHT
TZOFFSETFROM:-0600
TZOFFSETTO:-0500
DTSTART:20220313T080000
TZNAME:CDT
END:DAYLIGHT
END:VTIMEZONE
END:VCALENDAR
