BEGIN:VCALENDAR
VERSION:2.0
PRODID:-//Obstetrics &amp; Gynecology//NONSGML Events//EN
CALSCALE:GREGORIAN
X-ORIGINAL-URL:https://obgyn.wustl.edu/events/
X-WR-CALDESC:Obstetrics &amp; Gynecology - Events
BEGIN:VEVENT
UID:20220407T2114Z-1649366054.4928-EO-16091-1@172.23.128.19
STATUS:CONFIRMED
DTSTAMP:20260421T155849Z
CREATED:20220407T211357Z
LAST-MODIFIED:20220407T211357Z
DTSTART;TZID=America/Chicago:20220504T080000
DTEND;TZID=America/Chicago:20220504T120000
SUMMARY: Rothman Research Day 2
DESCRIPTION: May 4\, 2022 8:00 – 12:00 – EPNEC
X-ALT-DESC;FMTTYPE=text/html: <p class="x_x_MsoNormal">May 4\, 2022 8:00 – 
 12:00 - EPNEC</p><p class="x_x_MsoNormal"><p class="x_x_MsoNormal">
CATEGORIES:Annual Events
LOCATION:EPNEC Center
GEO:38.636879;-90.262400
ORGANIZER;CN="Marcy":MAILTO:marcylivingston@wustl.edu
URL;VALUE=URI:https://obgyn.wustl.edu/events/event/rothman-research-day-2-2
 /
END:VEVENT
BEGIN:VTIMEZONE
TZID:America/Chicago
BEGIN:DAYLIGHT
TZOFFSETFROM:-0600
TZOFFSETTO:-0500
DTSTART:20220313T080000
TZNAME:CDT
END:DAYLIGHT
END:VTIMEZONE
END:VCALENDAR
