BEGIN:VCALENDAR
VERSION:2.0
PRODID:-//Obstetrics &amp; Gynecology//NONSGML Events//EN
CALSCALE:GREGORIAN
X-ORIGINAL-URL:https://obgyn.wustl.edu/events/
X-WR-CALDESC:Obstetrics &amp; Gynecology - Events
BEGIN:VEVENT
UID:20170331T1715Z-1490980545.523-EO-3381-1@172.21.70.58
STATUS:CONFIRMED
DTSTAMP:20260421T174620Z
CREATED:20170315T193357Z
LAST-MODIFIED:20170413T223515Z
DTSTART;TZID=America/Chicago:20170428T081500
DTEND;TZID=America/Chicago:20170428T130000
SUMMARY: Rothman Research Day 2017
DESCRIPTION: Residents and Fellows Presenting 8:15 am: Continental Breakfas
 t 8:30 am to 2:00 pm: (Resident/Fellow Presentations and Guest Speaker) 12:
 00 – 1:00 pm: Lunch/Guest Speaker Speaker: Ronald D. Alvarez\, MD\, MBA Bet
 ty & Lonnie S. Burnett Professor Chairman & Clinical Service Chief Departme
 nt of Obstetrics and Gynecology Vanderbilt University Medical Center Wohl A
 uditorium is located on the […]
X-ALT-DESC;FMTTYPE=text/html: <h2>Residents and Fellows Presenting</h2><p>8
 :15 am: Continental Breakfast<br />8:30 am to 2:00 pm: (Resident/Fellow Pre
 sentations and Guest Speaker)<br />12:00 – 1:00 pm: Lunch/Guest Speaker</p>
 <p><strong>Speaker: Ronald D. Alvarez\, MD\, MBA</strong><br />Betty & Lonn
 ie S. Burnett Professor<br />Chairman & Clinical Service Chief<br />Departm
 ent of Obstetrics and Gynecology<br />Vanderbilt University Medical Center<
 /p><p>Wohl Auditorium is located on the lower level of Wohl Building.</p><p
 ><a href="https://obgyn.wustl.edu/education/residency/rothman-research-day/
 ">Learn more about the annual David Rothman Resident Research Day »</a></p>
CATEGORIES:Annual Events,Visiting Speakers
LOCATION:Wohl Building - Wohl Auditorium (ground floor)
GEO:38.637234;-90.264590
ORGANIZER;CN="Catherine":MAILTO:cbetz@wustl.edu
URL;VALUE=URI:https://obgyn.wustl.edu/events/event/rothman-research-day-201
 7/
END:VEVENT
BEGIN:VTIMEZONE
TZID:America/Chicago
BEGIN:DAYLIGHT
TZOFFSETFROM:-0600
TZOFFSETTO:-0500
DTSTART:20170312T080000
TZNAME:CDT
END:DAYLIGHT
END:VTIMEZONE
END:VCALENDAR
